Workbook

Sheet февраль
FE1: Приложение № 4
EI2: к приказу ФАС России от 08.12.2022 № 960/22
FE4: Форма 1
A6: Информация о наличии (отсуствии) технической возможности доступа к регулируемым услугам по транспортировке газа по магистральным газопроводам ООО "ННК-САХАЛИНМОРНЕФТЕГАЗ"
AV8: (наименование субъекта естественной монополии)
AW9: в зонах входа на (за) | BZ9: февраль | CR9: 20 | CV9: 24 | CZ9: года
C10: (месяц) | N10: февраль (план)
A12: № | F12: Наименование зоны входа | W12: Наименование магистрального трубопровода | AO12: Точка входа | AZ12: Техническая мощность точки входа | BQ12: Поставщик, владелец газа | CJ12: Объемы газа в соответствии с поступив-шими заявками | DA12: Объемы газа в соответствии с удовлетво-ренными заявками | DR12: Фактическая мощность магистрального трубопровода в конце зоны входа | EL12: Свободная мощность магистрального трубопровода в конце зоны входа
A13: 1 | F13: 2 | W13: 3 | AO13: 4 | AZ13: 5 | BQ13: 6 | CJ13: 7 | DA13: 8 | DR13: 9 | EL13: 10
A14: 1 | F14: г/пр "Даги-Оха", ДКС "Одопту", г/пр "Сабо-Тунгор" | W14: г/пр "Тунгор - ГРС Оха" | AO14: ГРС "Оха" | AZ14: =40.291 -> 40.291 | BQ14: Проект "Сахалин-1", ООО "ННК-Сахалинморнефтегаз" | CJ14: 15.041 | DA14: =CJ14 -> 15.041 | DR14: =DA14 -> 15.041 | EL14: =AZ14-DR14 -> 25.25
A15: 2 | F15: г/пр "Даги-Оха" | W15: г/пр "Даги - Ноглики - Катангли" | AO15: ГРС "Ноглики", ГРП "Катангли", ГРП "Вал" | AZ15: 13.333 | BQ15: Проект "Сахалин-1", ООО "ННК-Сахалинморнефтегаз" | CJ15: 4.323 | DA15: =CJ15 -> 4.323 | DR15: =DA15 -> 4.323 | EL15: =AZ15-DR15 -> 9.01
A16: 3 | F16: КУ "Боатасино" | W16: МГП "Оха - Комсомольск-на-Амуре" | AO16: ГРС "Лазарево", ГРС "Лазарево" (ПАЭС), ГРС "Де-Кастри", АГРС "Циммермановка", ГРС "Николаевская ТЭЦ", ГРС "Амурск"№, ГРС-1 г.Комсомольск-на-Амуре | AZ16: 87.5 | BQ16: ПАО НК "Роснефть",ООО "ННК-Сахалинморнефтегаз" Проект "Сахалин 1", | CJ16: 184.711 | DA16: =CJ16 -> 184.711 | DR16: =DA16 -> 184.711 | EL16: нет свободной мощности
FE19: Форма 2
A21: Информация о наличии (отсутствии) технической возможности доступа к регулируемым услугам по транспортировке газа по магистральным газопроводам
AV22: ООО "ННК-САХАЛИНМОРНЕФТЕГАЗ"
AV23: (наименование субъекта естественной монополии)
AW24: в зонах выхода на (за) | BZ24: февраль | CR24: 20 | CV24: 24 | CZ24: года
C25: (месяц) | N25: февраль (план)
A27: № | F27: Наименование зоны выхода | W27: Наименование магистрального трубопровода | AO27: Точка выхода | AZ27: Техни-ческая мощность точки выхода | BN27: Потребитель, владелец газа | CG27: Объемы газа в соответствии с поступившими заявками | CY27: Объемы газа в соответствии с удовлетворенными заявками | DT27: Фактическая мощность магистрального трубопровода в начале зоны выхода | EM27: Свободная мощность магистрального трубопровода в точке выхода
A28: 1 | F28: 2 | W28: 3 | AO28: 4 | AZ28: 5 | BN28: 6 | CG28: 7 | CY28: 8 | DT28: 9 | EM28: 10
A29: 1 | F29: г/пр "Даги-Оха", ДКС "Одопту", г/пр "Сабо-Тунгор" | W29: г/пр "Тунгор - ГРС Оха" | AO29: ГРС "Оха" | AZ29: 40.291 | BN29: Проект "Сахалин-1", ООО "ННК-"Сахалинморнефтегаз" | CG29: 15.041 | CY29: =DA14 -> 15.041 | DT29: =CY29 -> 15.041 | EM29: =AZ29-DT29 -> 25.25
A30: 2 | F30: г/пр "Даги-Оха" | W30: г/пр "Даги - Ноглики - Катангли" | AO30: ГРС "Ноглики", ГРП "Катангли", ГРП "Вал" | AZ30: 13.333 | BN30: Проект "Сахалин-1", ООО "ННК-Сахалинморнефтегаз" | CG30: 4.323 | CY30: =DA15 -> 4.323 | DT30: =CY30 -> 4.323 | EM30: =AZ30-DT30 -> 9.01
A31: 3 | F31: КУ "Боатасино" | W31: МГП "Оха - Комсомольск-на-Амуре" | AO31: ГРС "Лазарево", ГРС "Лазарево" (ПАЭС), ГРС "Де-Кастри", АГРС "Циммермановка", ГРС "Николаевская ТЭЦ", ГРС "Амурск"№, ГРС-1 г.Комсомольск-на-Амуре | AZ31: 87.5 | BN31: ПАО НК "Роснефть",ООО "ННК-Сахалинморнефтегаз" Проект "Сахалин 1", | CG31: 184.711 | CY31: =DA16 -> 184.711 | DT31: =CY31 -> 184.711 | EM31: =EL16 -> нет свободной мощности
FE33: Форма 3
A35: Информация о наличии (отсутствии) технической возможности доступа к регулируемым услугам по транспортировке газа
AD36: по магистральным газопроводам ООО "ННК-САХАЛИНМОРНЕФТЕГАЗ"
BU37: (наименование субъекта естественной монополии)
AM38: между зонами входа и выхода на (за) | CI38: февраль | DA38: 20 | DE38: 24 | DI38: года
C39: (месяц) | N39: февраль (план)
A41: Номер зоны выхода | L41: Наименование зоны выхода | AD41: Номер и наименование зон входа
AD42: 1 | BK42: 2 | CR42: 3 | DY42: …
AD43: Y | BK43: YY | CR43: YYY | DY43: …
AD44: Величина свободной мощности | AT44: Лимити-рующий участок | BK44: Величина свободной мощности | CA44: Лимити-рующий участок | CR44: Величина свободной мощности | DH44: Лимити-рующий участок | DY44: Величина свободной мощности | EO44: Лимити-рующий участок
A45: 1 | L45: X
A46: 2 | L46: XX
A47: 3 | L47: XXX
A48: … | L48: …
FE50: Форма 4
A52: Информация о наличии (отсутствии) технической возможности доступа к регулируемым услугам по транспортировке газа по магистральным газопроводам ООО "ННК-САХАЛИНМОРНЕФТЕГАЗ"
AV53: (наименование субъекта естественной монополии)
BG54: за | BQ54: февраль | CI54: 20 | CM54: 24 | CQ54: года
O55: (месяц) | Z55: февраль (план)
A57: Зона входа в магистральный газопровод | W57: Зона выхода из магистрального газопровода | AS57: Поставщик газа/ потребитель | BQ57: Объемы газа в соответствии с поступившими заявками, млн м3 | CV57: Объемы газа в соответствии с удовлетворенными заявками, млн м3 | EA57: Свободная мощность магистральных трубопроводов, млн м3
A58: 1 | W58: 2 | AS58: 3 | BQ58: 4 | CV58: 5 | EA58: 6
A59: г/пр "Даги-Оха", ДКС "Одопту", г/пр "Сабо-Тунгор" | W59: Сахалинская область. Охинский район | AS59: АО "Охинская ТЭЦ" | BQ59: 9.926 | BR59: 10.682 | BS59: 10.682 | BT59: 10.682 | BU59: 10.682 | BV59: 10.682 | BW59: 10.682 | BX59: 10.682 | BY59: 10.682 | BZ59: 10.682 | CA59: 10.682 | CB59: 10.682 | CC59: 10.682 | CD59: 10.682 | CE59: 10.682 | CF59: 10.682 | CG59: 10.682 | CH59: 10.682 | CI59: 10.682 | CJ59: 10.682 | CK59: 10.682 | CL59: 10.682 | CM59: 10.682 | CN59: 10.682 | CO59: 10.682 | CP59: 10.682 | CQ59: 10.682 | CR59: 10.682 | CS59: 10.682 | CT59: 8.322 | CU59: 8.322 | CV59: =BQ59 -> 9.926 | EA59: =EL14 -> 25.25
AS60: ОАО "Сахалиноблгаз" | BQ60: 3.32 | BR60: 3.44 | BS60: 3.44 | BT60: 3.44 | BU60: 3.44 | BV60: 3.44 | BW60: 3.44 | BX60: 3.44 | BY60: 3.44 | BZ60: 3.44 | CA60: 3.44 | CB60: 3.44 | CC60: 3.44 | CD60: 3.44 | CE60: 3.44 | CF60: 3.44 | CG60: 3.44 | CH60: 3.44 | CI60: 3.44 | CJ60: 3.44 | CK60: 3.44 | CL60: 3.44 | CM60: 3.44 | CN60: 3.44 | CO60: 3.44 | CP60: 3.44 | CQ60: 3.44 | CR60: 3.44 | CS60: 3.44 | CT60: 3.44 | CU60: 3.44 | CV60: =BQ60 -> 3.32 | CW60: 3.44 | CX60: 3.44 | CY60: 3.44 | CZ60: 3.44 | DA60: 3.44 | DB60: 3.44 | DC60: 3.44 | DD60: 3.44 | DE60: 3.44 | DF60: 3.44 | DG60: 3.44 | DH60: 3.44 | DI60: 3.44 | DJ60: 3.44 | DK60: 3.44 | DL60: 3.44 | DM60: 3.44 | DN60: 3.44 | DO60: 3.44 | DP60: 3.44 | DQ60: 3.44 | DR60: 3.44 | DS60: 3.44 | DT60: 3.44 | DU60: 3.44 | DV60: 3.44 | DW60: 3.44 | DX60: 3.44 | DY60: 3.44 | DZ60: 3.44
AS61: МУП "Охинское коммунальное хозяйство" МО ГО "Охинский" | BQ61: 0.023 | BR61: 0.026 | BS61: 0.026 | BT61: 0.026 | BU61: 0.026 | BV61: 0.026 | BW61: 0.026 | BX61: 0.026 | BY61: 0.026 | BZ61: 0.026 | CA61: 0.026 | CB61: 0.026 | CC61: 0.026 | CD61: 0.026 | CE61: 0.026 | CF61: 0.026 | CG61: 0.026 | CH61: 0.026 | CI61: 0.026 | CJ61: 0.026 | CK61: 0.026 | CL61: 0.026 | CM61: 0.026 | CN61: 0.026 | CO61: 0.026 | CP61: 0.026 | CQ61: 0.026 | CR61: 0.026 | CS61: 0.026 | CT61: 0.026 | CU61: 0.026 | CV61: =BQ61 -> 0.023 | CW61: 0.026 | CX61: 0.026 | CY61: 0.026 | CZ61: 0.026 | DA61: 0.026 | DB61: 0.026 | DC61: 0.026 | DD61: 0.026 | DE61: 0.026 | DF61: 0.026 | DG61: 0.026 | DH61: 0.026 | DI61: 0.026 | DJ61: 0.026 | DK61: 0.026 | DL61: 0.026 | DM61: 0.026 | DN61: 0.026 | DO61: 0.026 | DP61: 0.026 | DQ61: 0.026 | DR61: 0.026 | DS61: 0.026 | DT61: 0.026 | DU61: 0.026 | DV61: 0.026 | DW61: 0.026 | DX61: 0.026 | DY61: 0.026 | DZ61: 0.026
AS62: АО "Аэропорт Южно-Сахалинск" | BQ62: 0.082598 | BR62: 0.082598 | BS62: 0.082598 | BT62: 0.082598 | BU62: 0.082598 | BV62: 0.082598 | BW62: 0.082598 | BX62: 0.082598 | BY62: 0.082598 | BZ62: 0.082598 | CA62: 0.082598 | CB62: 0.082598 | CC62: 0.082598 | CD62: 0.082598 | CE62: 0.082598 | CF62: 0.082598 | CG62: 0.082598 | CH62: 0.082598 | CI62: 0.082598 | CJ62: 0.082598 | CK62: 0.082598 | CL62: 0.082598 | CM62: 0.082598 | CN62: 0.082598 | CO62: 0.082598 | CP62: 0.082598 | CQ62: 0.082598 | CR62: 0.082598 | CS62: 0.082598 | CT62: 0.082598 | CU62: 0.082598 | CV62: =BQ62 -> 0.082598 | CW62: 0.082598 | CX62: 0.082598 | CY62: 0.082598 | CZ62: 0.082598 | DA62: 0.082598 | DB62: 0.082598 | DC62: 0.082598 | DD62: 0.082598 | DE62: 0.082598 | DF62: 0.082598 | DG62: 0.082598 | DH62: 0.082598 | DI62: 0.082598 | DJ62: 0.082598 | DK62: 0.082598 | DL62: 0.082598 | DM62: 0.082598 | DN62: 0.082598 | DO62: 0.082598 | DP62: 0.082598 | DQ62: 0.082598 | DR62: 0.082598 | DS62: 0.082598 | DT62: 0.082598 | DU62: 0.082598 | DV62: 0.082598 | DW62: 0.082598 | DX62: 0.082598 | DY62: 0.082598 | DZ62: 0.082598
AS63: Охинское государственное унитарное дорожное предприятие Сахалинской области | BQ63: 0.062 | BR63: 0.07 | BS63: 0.07 | BT63: 0.07 | BU63: 0.07 | BV63: 0.07 | BW63: 0.07 | BX63: 0.07 | BY63: 0.07 | BZ63: 0.07 | CA63: 0.07 | CB63: 0.07 | CC63: 0.07 | CD63: 0.07 | CE63: 0.07 | CF63: 0.07 | CG63: 0.07 | CH63: 0.07 | CI63: 0.07 | CJ63: 0.07 | CK63: 0.07 | CL63: 0.07 | CM63: 0.07 | CN63: 0.07 | CO63: 0.07 | CP63: 0.07 | CQ63: 0.07 | CR63: 0.07 | CS63: 0.07 | CT63: 0.07 | CU63: 0.07 | CV63: =BQ63 -> 0.062 | CW63: 0.07 | CX63: 0.07 | CY63: 0.07 | CZ63: 0.07 | DA63: 0.07 | DB63: 0.07 | DC63: 0.07 | DD63: 0.07 | DE63: 0.07 | DF63: 0.07 | DG63: 0.07 | DH63: 0.07 | DI63: 0.07 | DJ63: 0.07 | DK63: 0.07 | DL63: 0.07 | DM63: 0.07 | DN63: 0.07 | DO63: 0.07 | DP63: 0.07 | DQ63: 0.07 | DR63: 0.07 | DS63: 0.07 | DT63: 0.07 | DU63: 0.07 | DV63: 0.07 | DW63: 0.07 | DX63: 0.07 | DY63: 0.07 | DZ63: 0.07
AS64: ООО "ННК-Сахалинморнефтегаз" | BQ64: 1.627284 | BR64: 0 | BS64: 0 | BT64: 0 | BU64: 0 | BV64: 0 | BW64: 0 | BX64: 0 | BY64: 0 | BZ64: 0 | CA64: 0 | CB64: 0 | CC64: 0 | CD64: 0 | CE64: 0 | CF64: 0 | CG64: 0 | CH64: 0 | CI64: 0 | CJ64: 0 | CK64: 0 | CL64: 0 | CM64: 0 | CN64: 0 | CO64: 0 | CP64: 0 | CQ64: 0 | CR64: 0 | CS64: 0 | CT64: 0 | CU64: 0 | CV64: =BQ64 -> 1.627284 | CW64: =[1]СН!CQ58 -> 0 | CX64: =[1]СН!CR58 -> 0 | CY64: =[1]СН!CS58 -> 0 | CZ64: =[1]СН!CT58 -> 0 | DA64: =[1]СН!CU58 -> 0 | DB64: =[1]СН!CV58 -> 0 | DC64: =[1]СН!CW58 -> 0 | DD64: =[1]СН!CX58 -> 0 | ... DZ64: =[1]СН!DT58 -> 0
A65: г/пр "Даги-Оха" | W65: Сахалинская область, Ногликский район | AS65: ОАО "Сахалиноблгаз" | BQ65: 1.524 | BR65: 1.682 | BS65: 1.682 | BT65: 1.682 | BU65: 1.682 | BV65: 1.682 | BW65: 1.682 | BX65: 1.682 | BY65: 1.682 | BZ65: 1.682 | CA65: 1.682 | CB65: 1.682 | CC65: 1.682 | CD65: 1.682 | CE65: 1.682 | CF65: 1.682 | CG65: 1.682 | CH65: 1.682 | CI65: 1.682 | CJ65: 1.682 | CK65: 1.682 | CL65: 1.682 | CM65: 1.682 | CN65: 1.682 | CO65: 1.682 | CP65: 1.682 | CQ65: 1.682 | CR65: 1.682 | CS65: 1.682 | CT65: 1.682 | CU65: 1.682 | CV65: =BQ65 -> 1.524 | CW65: 1.682 | CX65: 1.682 | CY65: 1.682 | CZ65: 1.682 | DA65: 1.682 | DB65: 1.682 | DC65: 1.682 | DD65: 1.682 | DE65: 1.682 | DF65: 1.682 | DG65: 1.682 | DH65: 1.682 | DI65: 1.682 | DJ65: 1.682 | DK65: 1.682 | DL65: 1.682 | DM65: 1.682 | DN65: 1.682 | DO65: 1.682 | DP65: 1.682 | DQ65: 1.682 | DR65: 1.682 | DS65: 1.682 | DT65: 1.682 | DU65: 1.682 | DV65: 1.682 | DW65: 1.682 | DX65: 1.682 | DY65: 1.682 | DZ65: 1.682 | EA65: =EM30 -> 9.01
AS66: АО "Ногликская ГЭС" | BQ66: 0 | BR66: 6.2 | BS66: 6.2 | BT66: 6.2 | BU66: 6.2 | BV66: 6.2 | BW66: 6.2 | BX66: 6.2 | BY66: 6.2 | BZ66: 6.2 | CA66: 6.2 | CB66: 6.2 | CC66: 6.2 | CD66: 6.2 | CE66: 6.2 | CF66: 6.2 | CG66: 6.2 | CH66: 6.2 | CI66: 6.2 | CJ66: 6.2 | CK66: 6.2 | CL66: 6.2 | CM66: 6.2 | CN66: 6.2 | CO66: 6.2 | CP66: 6.2 | CQ66: 6.2 | CR66: 6.2 | CS66: 6.2 | CT66: 6.2 | CU66: 6.2 | CV66: =BQ66 -> 0 | CW66: 6.2 | CX66: 6.2 | CY66: 6.2 | CZ66: 6.2 | DA66: 6.2 | DB66: 6.2 | DC66: 6.2 | DD66: 6.2 | DE66: 6.2 | DF66: 6.2 | DG66: 6.2 | DH66: 6.2 | DI66: 6.2 | DJ66: 6.2 | DK66: 6.2 | DL66: 6.2 | DM66: 6.2 | DN66: 6.2 | DO66: 6.2 | DP66: 6.2 | DQ66: 6.2 | DR66: 6.2 | DS66: 6.2 | DT66: 6.2 | DU66: 6.2 | DV66: 6.2 | DW66: 6.2 | DX66: 6.2 | DY66: 6.2 | DZ66: 6.2
AT67: ООО "Газпром межрегионгаз Дальний Восток" | AU67: ООО "Газпром межрегионгаз Дальний Восток" | AV67: ООО "Газпром межрегионгаз Дальний Восток" | AW67: ООО "Газпром межрегионгаз Дальний Восток" | AX67: ООО "Газпром межрегионгаз Дальний Восток" | AY67: ООО "Газпром межрегионгаз Дальний Восток" | AZ67: ООО "Газпром межрегионгаз Дальний Восток" | BA67: ООО "Газпром межрегионгаз Дальний Восток" | BB67: ООО "Газпром межрегионгаз Дальний Восток" | BC67: ООО "Газпром межрегионгаз Дальний Восток" | BD67: ООО "Газпром межрегионгаз Дальний Восток" | BE67: ООО "Газпром межрегионгаз Дальний Восток" | BF67: ООО "Газпром межрегионгаз Дальний Восток" | BG67: ООО "Газпром межрегионгаз Дальний Восток" | BH67: ООО "Газпром межрегионгаз Дальний Восток" | BI67: ООО "Газпром межрегионгаз Дальний Восток" | BJ67: ООО "Газпром межрегионгаз Дальний Восток" | BK67: ООО "Газпром межрегионгаз Дальний Восток" | BL67: ООО "Газпром межрегионгаз Дальний Восток" | BM67: ООО "Газпром межрегионгаз Дальний Восток" | BN67: ООО "Газпром межрегионгаз Дальний Восток" | BO67: ООО "Газпром межрегионгаз Дальний Восток" | BP67: ООО "Газпром межрегионгаз Дальний Восток"
AS68: ООО "ННК-Сахалинморнефтегаз" | BQ68: 2.798945 | BR68: 3.50009 | BS68: 3.50009 | BT68: 3.50009 | BU68: 3.50009 | BV68: 3.50009 | BW68: 3.50009 | BX68: 3.50009 | BY68: 3.50009 | BZ68: 3.50009 | CA68: 3.50009 | CB68: 3.50009 | CC68: 3.50009 | CD68: 3.50009 | CE68: 3.50009 | CF68: 3.50009 | CG68: 3.50009 | CH68: 3.50009 | CI68: 3.50009 | CJ68: 3.50009 | CK68: 3.50009 | CL68: 3.50009 | CM68: 3.50009 | CN68: 3.50009 | CO68: 3.50009 | CP68: 3.50009 | CQ68: 3.50009 | CR68: 3.50009 | CS68: 3.50009 | CT68: 3.50009 | CU68: 3.50009 | CV68: =BQ68 -> 2.798945 | CW68: 3.50009 | CX68: 3.50009 | CY68: 3.50009 | CZ68: 3.50009 | DA68: 3.50009 | DB68: 3.50009 | DC68: 3.50009 | DD68: 3.50009 | DE68: 3.50009 | DF68: 3.50009 | DG68: 3.50009 | DH68: 3.50009 | DI68: 3.50009 | DJ68: 3.50009 | DK68: 3.50009 | DL68: 3.50009 | DM68: 3.50009 | DN68: 3.50009 | DO68: 3.50009 | DP68: 3.50009 | DQ68: 3.50009 | DR68: 3.50009 | DS68: 3.50009 | DT68: 3.50009 | DU68: 3.50009 | DV68: 3.50009 | DW68: 3.50009 | DX68: 3.50009 | DY68: 3.50009 | DZ68: 3.50009
A69: КУ "Боатасино" | W69: Николаевский район Хабаровского края; Ульчский район Хабаровского края, Комсомольский район Хабаровского края | AS69: АО "Дальневосточная генерирующая компания" | BQ69: 150.45652 | BR69: 164.82444 | BS69: 164.82444 | BT69: 164.82444 | BU69: 164.82444 | BV69: 164.82444 | BW69: 164.82444 | BX69: 164.82444 | BY69: 164.82444 | BZ69: 164.82444 | CA69: 164.82444 | CB69: 164.82444 | CC69: 164.82444 | CD69: 164.82444 | CE69: 164.82444 | CF69: 164.82444 | CG69: 164.82444 | CH69: 164.82444 | CI69: 164.82444 | CJ69: 164.82444 | CK69: 164.82444 | CL69: 164.82444 | CM69: 164.82444 | CN69: 164.82444 | CO69: 164.82444 | CP69: 164.82444 | CQ69: 164.82444 | CR69: 164.82444 | CS69: 164.82444 | CT69: 164.82444 | CU69: 164.82444 | CV69: =BQ69 -> 150.45652 | CW69: =162.024444+2.8 -> 164.82444 | CX69: =162.024444+2.8 -> 164.82444 | CY69: =162.024444+2.8 -> 164.82444 | CZ69: =162.024444+2.8 -> 164.82444 | DA69: =162.024444+2.8 -> 164.82444 | DB69: =162.024444+2.8 -> 164.82444 | DC69: =162.024444+2.8 -> 164.82444 | DD69: =162.024444+2.8 -> 164.82444 | ... DZ69: =162.024444+2.8 -> 164.82444 | EA69: =EM31 -> нет свободной мощности
AS70: АО "Газпром газораспределение ДВ" | BQ70: 25.933767 | BR70: 0 | BS70: 0 | BT70: 0 | BU70: 0 | BV70: 0 | BW70: 0 | BX70: 0 | BY70: 0 | BZ70: 0 | CA70: 0 | CB70: 0 | CC70: 0 | CD70: 0 | CE70: 0 | CF70: 0 | CG70: 0 | CH70: 0 | CI70: 0 | CJ70: 0 | CK70: 0 | CL70: 0 | CM70: 0 | CN70: 0 | CO70: 0 | CP70: 0 | CQ70: 0 | CR70: 0 | CS70: 0 | CT70: 0 | CU70: 0 | CV70: =BQ70 -> 25.933767 | CW70: =CW77+CW78 -> 0 | CX70: =CX77+CX78 -> 0 | CY70: =CY77+CY78 -> 0 | CZ70: =CZ77+CZ78 -> 0 | DA70: =DA77+DA78 -> 0 | DB70: =DB77+DB78 -> 0 | DC70: =DC77+DC78 -> 0 | DD70: =DD77+DD78 -> 0 | ... DZ70: =DZ77+DZ78 -> 0
AS71: АО "Сахалинморнефтегаз-Шельф" | BQ71: 1.316 | CV71: =BQ71 -> 1.316
AS72: ООО "РН-Комсомольский НПЗ" | BQ72: 6.839 | BR72: 7.843 | BS72: 7.843 | BT72: 7.843 | BU72: 7.843 | BV72: 7.843 | BW72: 7.843 | BX72: 7.843 | BY72: 7.843 | BZ72: 7.843 | CA72: 7.843 | CB72: 7.843 | CC72: 7.843 | CD72: 7.843 | CE72: 7.843 | CF72: 7.843 | CG72: 7.843 | CH72: 7.843 | CI72: 7.843 | CJ72: 7.843 | CK72: 7.843 | CL72: 7.843 | CM72: 7.843 | CN72: 7.843 | CO72: 7.843 | CP72: 7.843 | CQ72: 7.843 | CR72: 7.843 | CS72: 7.843 | CT72: 7.843 | CU72: 7.843 | CV72: =BQ72 -> 6.839 | CW72: =0.561+7.282 -> 7.843 | CX72: =0.561+7.282 -> 7.843 | CY72: =0.561+7.282 -> 7.843 | CZ72: =0.561+7.282 -> 7.843 | DA72: =0.561+7.282 -> 7.843 | DB72: =0.561+7.282 -> 7.843 | DC72: =0.561+7.282 -> 7.843 | DD72: =0.561+7.282 -> 7.843 | ... DZ72: =0.561+7.282 -> 7.843
AS73: ООО "ННК-Сахалинморнефтегаз" | BQ73: 0.16576 | BR73: 0 | BS73: 0 | BT73: 0 | BU73: 0 | BV73: 0 | BW73: 0 | BX73: 0 | BY73: 0 | BZ73: 0 | CA73: 0 | CB73: 0 | CC73: 0 | CD73: 0 | CE73: 0 | CF73: 0 | CG73: 0 | CH73: 0 | CI73: 0 | CJ73: 0 | CK73: 0 | CL73: 0 | CM73: 0 | CN73: 0 | CO73: 0 | CP73: 0 | CQ73: 0 | CR73: 0 | CS73: 0 | CT73: 0 | CU73: 0 | CV73: =BQ73 -> 0.16576 | CW73: =[1]СН!CQ67 -> 0 | CX73: =[1]СН!CR67 -> 0 | CY73: =[1]СН!CS67 -> 0 | CZ73: =[1]СН!CT67 -> 0 | DA73: =[1]СН!CU67 -> 0 | DB73: =[1]СН!CV67 -> 0 | DC73: =[1]СН!CW67 -> 0 | DD73: =[1]СН!CX67 -> 0 | ... DZ73: =[1]СН!DT67 -> 0
W74: Сахалинская область, Ногликский район | AS74: АО "Дальневосточная генерирующая компания" | BQ74: 122.59885 | BR74: #REF! | BS74: #REF! | BT74: #REF! | BU74: #REF! | BV74: #REF! | BW74: #REF! | BX74: #REF! | BY74: #REF! | BZ74: #REF! | CA74: #REF! | CB74: #REF! | CC74: #REF! | CD74: #REF! | CE74: #REF! | CF74: #REF! | CG74: #REF! | CH74: #REF! | CI74: #REF! | CJ74: #REF! | CK74: #REF! | CL74: #REF! | CM74: #REF! | CN74: #REF! | CO74: #REF! | CP74: #REF! | CQ74: #REF! | CR74: #REF! | CS74: #REF! | CT74: #REF! | CU74: #REF! | CV74: =BQ74 -> 122.59885 | CW74: =#REF! -> #REF! | CX74: =#REF! -> #REF! | CY74: =#REF! -> #REF! | CZ74: =#REF! -> #REF! | DA74: =#REF! -> #REF! | DB74: =#REF! -> #REF! | DC74: =#REF! -> #REF! | DD74: =#REF! -> #REF! | ... DZ74: =#REF! -> #REF!
AS75: АО "Газпром газораспределение ДВ" | BQ75: 25.466 | BR75: 19.185759 | BS75: 19.185759 | BT75: 19.185759 | BU75: 19.185759 | BV75: 19.185759 | BW75: 19.185759 | BX75: 19.185759 | BY75: 19.185759 | BZ75: 19.185759 | CA75: 19.185759 | CB75: 19.185759 | CC75: 19.185759 | CD75: 19.185759 | CE75: 19.185759 | CF75: 19.185759 | CG75: 19.185759 | CH75: 19.185759 | CI75: 19.185759 | CJ75: 19.185759 | CK75: 19.185759 | CL75: 19.185759 | CM75: 19.185759 | CN75: 19.185759 | CO75: 19.185759 | CP75: 19.185759 | CQ75: 19.185759 | CR75: 19.185759 | CS75: 19.185759 | CT75: 19.185759 | CU75: 19.185759 | CV75: =BQ75 -> 25.466 | CW75: 19.185759 | CX75: 19.185759 | CY75: 19.185759 | CZ75: 19.185759 | DA75: 19.185759 | DB75: 19.185759 | DC75: 19.185759 | DD75: 19.185759 | DE75: 19.185759 | DF75: 19.185759 | DG75: 19.185759 | DH75: 19.185759 | DI75: 19.185759 | DJ75: 19.185759 | DK75: 19.185759 | DL75: 19.185759 | DM75: 19.185759 | DN75: 19.185759 | DO75: 19.185759 | DP75: 19.185759 | DQ75: 19.185759 | DR75: 19.185759 | DS75: 19.185759 | DT75: 19.185759 | DU75: 19.185759 | DV75: 19.185759 | DW75: 19.185759 | DX75: 19.185759 | DY75: 19.185759 | DZ75: 19.185759
B76: Итого: | X76: х | AT76: х | BQ76: =BQ59+BQ60+BQ61+BQ62+BQ63+BQ64+BQ65+BQ66+BQ67+BQ68+BQ69+BQ70+BQ71+BQ72+BQ73+BQ74+BQ75 -> 352.13972 | CV76: =CV59+CV60+CV61+CV62+CV63+CV64+CV65+CV66+CV67+CV68+CV69+CV70+CV71+CV72+CV73+CV74+CV75 -> 352.13972 | EA76: х
FH78: Форма 5
A80: Информация о наличии (отсутствии) технической возможности доступа к регулируемым услугам по транспортировке газа по магистральным газопроводам для целей определения возможности технологического присоединения к газораспределительным сетям
A82: Субъект Российской Федерации | R82: Наименование газораспредели-тельной станции (участков магистрального газопровода, за исключением газопровода- отвода) | AL82: Проектная мощность (производитель-ность) газораспредели-тельной станции (участков магистрального газопровода, за исключением газопровода-отвода), тыс. м3/час | BC82: Загрузка газораспредели-тельной станции (участков магистрального газопровода, за исключением газопровода-отвода), тыс. м3/час | BT82: Суммарный объем газа по действующим техническим условиям на подключение (в т.ч. суммарный объем газа в рамках догазификации), тыс. м3/час | CK82: Наличие (дефицит) пропускной способности (в % от проектной мощности), тыс. м3/час | CZ82: Наличие уведомления газораспределительной организации (далее - ГРО) об отклоненных заявках и заключенных договоров в рамках догазификации со сроком технологического подключения при увеличении пропускной способности с указанием величины превышения (в % от пропускной способности газораспределительной станции) | DY82: План мероприятий по увеличению пропускной способности
DY83: Основание | EK83: Срок меропри-ятий | EW83: Параметры увеличе- ния
A84: 1 | R84: 2 | AL84: 3 | BC84: 4 | BT84: 5 | CK84: 6 | CZ84: 7 | DY84: 8 | EK84: 9 | EW84: 10
A85: Сахалинская область | R85: ГРС "Оха" | AL85: 80 | BC85: 25 | CK85: =AL85-BC85 -> 55
R86: ГРС "Ноглики" | AL86: 9 | BC86: 2.4 | CK86: =AL86-BC86 -> 6.6
A87: Хабаровский край | R87: ГРС "Лазарево" | AL87: 5 | BC87: 0.9 | CK87: =AL87-BC87 -> 4.1
R88: ГРС "Де-Кастри" | AL88: 40 | BC88: 1.1 | CK88: =AL88-BC88 -> 38.9
R89: АГРС "Циммермановка" | AL89: 4.8 | BC89: 0.6 | CK89: =AL89-BC89 -> 4.2
R90: ГРС "Лазарево" (ПАЭС) | AL90: 15 | BC90: 0 | CK90: =AL90-BC90 -> 15
R91: ГРС "Амурск" | AL91: 150 | BC91: 44.4 | CK91: =AL91-BC91 -> 105.6
R92: ГРС "Комсомольск" | AL92: 160 | BC92: 160 | CK92: =AL92-BC92 -> 0
FG94: Форма 6
A96: Информация о наличии (отсутствии) технической возможности доступа к регулируемым услугам по транспортировке газа по газораспределительным сетям ООО "ННК-САХАЛИНМОРНЕФТЕГАЗ"
AW98: (наименование субъекта естественной монополии)
BH99: за | BR99: февраль | CJ99: 20 | CN99: 24 | CR99: года
J100: (месяц) февраль | Y100: (план)
A102: Точка входа в газораспределительную сеть | AA102: Точка выхода из газораспределительной сети | BA102: Наименование потребителя | BX102: Номер группы газопотребления/ транзит | CR102: Объемы газа в соответствии с поступившими заявками, млн м3 | DN102: Объемы газа в соответствии с удовлетворен- ными заявками, млн м3 | EK102: Свободная мощность газораспредели-тельной сети, млн м3/месяц
A103: 1 | AA103: 2 | BA103: 3 | BX103: 4 | CR103: 5 | DN103: 6 | EK103: 7
A104: ГРС"Оха" | AA104: Сахалинская обл., Охинский район | BA104: АО "Охинская ТЭЦ" | BB104: АО "Охинская ТЭЦ" | BC104: АО "Охинская ТЭЦ" | BD104: АО "Охинская ТЭЦ" | BE104: АО "Охинская ТЭЦ" | BF104: АО "Охинская ТЭЦ" | BG104: АО "Охинская ТЭЦ" | BH104: АО "Охинская ТЭЦ" | BI104: АО "Охинская ТЭЦ" | BJ104: АО "Охинская ТЭЦ" | BK104: АО "Охинская ТЭЦ" | BL104: АО "Охинская ТЭЦ" | BM104: АО "Охинская ТЭЦ" | BN104: АО "Охинская ТЭЦ" | BO104: АО "Охинская ТЭЦ" | BP104: АО "Охинская ТЭЦ" | BQ104: АО "Охинская ТЭЦ" | BR104: АО "Охинская ТЭЦ" | BS104: АО "Охинская ТЭЦ" | BT104: АО "Охинская ТЭЦ" | BU104: АО "Охинская ТЭЦ" | BV104: АО "Охинская ТЭЦ" | BW104: АО "Охинская ТЭЦ" | BX104: 2 | CR104: 9.926 | DN104: =CR104 -> 9.926 | DO104: 6.55373 | DP104: 6.55373 | DQ104: 6.55373 | DR104: 6.55373 | DS104: 6.55373 | DT104: 6.55373 | DU104: 6.55373 | DV104: 6.55373 | DW104: 6.55373 | DX104: 6.55373 | DY104: 6.55373 | DZ104: 6.55373 | EA104: 6.55373 | EB104: 6.55373 | EC104: 6.55373 | ED104: 6.55373 | EE104: 6.55373 | EF104: 6.55373 | EG104: 6.55373 | EH104: 6.55373 | EI104: 6.55373 | EJ104: 6.55373 | EK104: =EL14 -> 25.25
BA105: ОАО "Сахалиноблгаз" | BB105: ОАО "Сахалиноблгаз" | BC105: ОАО "Сахалиноблгаз" | BD105: ОАО "Сахалиноблгаз" | BE105: ОАО "Сахалиноблгаз" | BF105: ОАО "Сахалиноблгаз" | BG105: ОАО "Сахалиноблгаз" | BH105: ОАО "Сахалиноблгаз" | BI105: ОАО "Сахалиноблгаз" | BJ105: ОАО "Сахалиноблгаз" | BK105: ОАО "Сахалиноблгаз" | BL105: ОАО "Сахалиноблгаз" | BM105: ОАО "Сахалиноблгаз" | BN105: ОАО "Сахалиноблгаз" | BO105: ОАО "Сахалиноблгаз" | BP105: ОАО "Сахалиноблгаз" | BQ105: ОАО "Сахалиноблгаз" | BR105: ОАО "Сахалиноблгаз" | BS105: ОАО "Сахалиноблгаз" | BT105: ОАО "Сахалиноблгаз" | BU105: ОАО "Сахалиноблгаз" | BV105: ОАО "Сахалиноблгаз" | BW105: ОАО "Сахалиноблгаз" | BX105: 4 | CR105: 0.69 | DN105: =CR105 -> 0.69 | DO105: 0.1771 | DP105: 0.1771 | DQ105: 0.1771 | DR105: 0.1771 | DS105: 0.1771 | DT105: 0.1771 | DU105: 0.1771 | DV105: 0.1771 | DW105: 0.1771 | DX105: 0.1771 | DY105: 0.1771 | DZ105: 0.1771 | EA105: 0.1771 | EB105: 0.1771 | EC105: 0.1771 | ED105: 0.1771 | EE105: 0.1771 | EF105: 0.1771 | EG105: 0.1771 | EH105: 0.1771 | EI105: 0.1771 | EJ105: 0.1771
BA106: МУП "Охинское коммунальное хозяйство" МО ГО "Охинский" | BB106: МУП "Охинское коммунальное хозяйство" МО ГО "Охинский" | BC106: МУП "Охинское коммунальное хозяйство" МО ГО "Охинский" | BD106: МУП "Охинское коммунальное хозяйство" МО ГО "Охинский" | BE106: МУП "Охинское коммунальное хозяйство" МО ГО "Охинский" | BF106: МУП "Охинское коммунальное хозяйство" МО ГО "Охинский" | BG106: МУП "Охинское коммунальное хозяйство" МО ГО "Охинский" | BH106: МУП "Охинское коммунальное хозяйство" МО ГО "Охинский" | BI106: МУП "Охинское коммунальное хозяйство" МО ГО "Охинский" | BJ106: МУП "Охинское коммунальное хозяйство" МО ГО "Охинский" | BK106: МУП "Охинское коммунальное хозяйство" МО ГО "Охинский" | BL106: МУП "Охинское коммунальное хозяйство" МО ГО "Охинский" | BM106: МУП "Охинское коммунальное хозяйство" МО ГО "Охинский" | BN106: МУП "Охинское коммунальное хозяйство" МО ГО "Охинский" | BO106: МУП "Охинское коммунальное хозяйство" МО ГО "Охинский" | BP106: МУП "Охинское коммунальное хозяйство" МО ГО "Охинский" | BQ106: МУП "Охинское коммунальное хозяйство" МО ГО "Охинский" | BR106: МУП "Охинское коммунальное хозяйство" МО ГО "Охинский" | BS106: МУП "Охинское коммунальное хозяйство" МО ГО "Охинский" | BT106: МУП "Охинское коммунальное хозяйство" МО ГО "Охинский" | BU106: МУП "Охинское коммунальное хозяйство" МО ГО "Охинский" | BV106: МУП "Охинское коммунальное хозяйство" МО ГО "Охинский" | BW106: МУП "Охинское коммунальное хозяйство" МО ГО "Охинский" | BX106: 5 | CR106: 0.023 | DN106: =CR106 -> 0.023 | DO106: 0.009418 | DP106: 0.009418 | DQ106: 0.009418 | DR106: 0.009418 | DS106: 0.009418 | DT106: 0.009418 | DU106: 0.009418 | DV106: 0.009418 | DW106: 0.009418 | DX106: 0.009418 | DY106: 0.009418 | DZ106: 0.009418 | EA106: 0.009418 | EB106: 0.009418 | EC106: 0.009418 | ED106: 0.009418 | EE106: 0.009418 | EF106: 0.009418 | EG106: 0.009418 | EH106: 0.009418 | EI106: 0.009418 | EJ106: 0.009418
BA107: Охинское государственное унитарное дорожное предприятие Сахалинской области | BB107: Охинское государственное унитарное дорожное предприятие Сахалинской области | BC107: Охинское государственное унитарное дорожное предприятие Сахалинской области | BD107: Охинское государственное унитарное дорожное предприятие Сахалинской области | BE107: Охинское государственное унитарное дорожное предприятие Сахалинской области | BF107: Охинское государственное унитарное дорожное предприятие Сахалинской области | BG107: Охинское государственное унитарное дорожное предприятие Сахалинской области | BH107: Охинское государственное унитарное дорожное предприятие Сахалинской области | BI107: Охинское государственное унитарное дорожное предприятие Сахалинской области | BJ107: Охинское государственное унитарное дорожное предприятие Сахалинской области | BK107: Охинское государственное унитарное дорожное предприятие Сахалинской области | BL107: Охинское государственное унитарное дорожное предприятие Сахалинской области | BM107: Охинское государственное унитарное дорожное предприятие Сахалинской области | BN107: Охинское государственное унитарное дорожное предприятие Сахалинской области | BO107: Охинское государственное унитарное дорожное предприятие Сахалинской области | BP107: Охинское государственное унитарное дорожное предприятие Сахалинской области | BQ107: Охинское государственное унитарное дорожное предприятие Сахалинской области | BR107: Охинское государственное унитарное дорожное предприятие Сахалинской области | BS107: Охинское государственное унитарное дорожное предприятие Сахалинской области | BT107: Охинское государственное унитарное дорожное предприятие Сахалинской области | BU107: Охинское государственное унитарное дорожное предприятие Сахалинской области | BV107: Охинское государственное унитарное дорожное предприятие Сахалинской области | BW107: Охинское государственное унитарное дорожное предприятие Сахалинской области | BX107: 5 | CR107: 0.062 | DN107: =CR107 -> 0.062 | DO107: 0.044864 | DP107: 0.044864 | DQ107: 0.044864 | DR107: 0.044864 | DS107: 0.044864 | DT107: 0.044864 | DU107: 0.044864 | DV107: 0.044864 | DW107: 0.044864 | DX107: 0.044864 | DY107: 0.044864 | DZ107: 0.044864 | EA107: 0.044864 | EB107: 0.044864 | EC107: 0.044864 | ED107: 0.044864 | EE107: 0.044864 | EF107: 0.044864 | EG107: 0.044864 | EH107: 0.044864 | EI107: 0.044864 | EJ107: 0.044864
BA108: АО "Аэропорт Южно-Сахалинск" | BB108: АО "Аэропорт Южно-Сахалинск" филиал "Аэропорт Оха" | BC108: АО "Аэропорт Южно-Сахалинск" филиал "Аэропорт Оха" | BD108: АО "Аэропорт Южно-Сахалинск" филиал "Аэропорт Оха" | BE108: АО "Аэропорт Южно-Сахалинск" филиал "Аэропорт Оха" | BF108: АО "Аэропорт Южно-Сахалинск" филиал "Аэропорт Оха" | BG108: АО "Аэропорт Южно-Сахалинск" филиал "Аэропорт Оха" | BH108: АО "Аэропорт Южно-Сахалинск" филиал "Аэропорт Оха" | BI108: АО "Аэропорт Южно-Сахалинск" филиал "Аэропорт Оха" | BJ108: АО "Аэропорт Южно-Сахалинск" филиал "Аэропорт Оха" | BK108: АО "Аэропорт Южно-Сахалинск" филиал "Аэропорт Оха" | BL108: АО "Аэропорт Южно-Сахалинск" филиал "Аэропорт Оха" | BM108: АО "Аэропорт Южно-Сахалинск" филиал "Аэропорт Оха" | BN108: АО "Аэропорт Южно-Сахалинск" филиал "Аэропорт Оха" | BO108: АО "Аэропорт Южно-Сахалинск" филиал "Аэропорт Оха" | BP108: АО "Аэропорт Южно-Сахалинск" филиал "Аэропорт Оха" | BQ108: АО "Аэропорт Южно-Сахалинск" филиал "Аэропорт Оха" | BR108: АО "Аэропорт Южно-Сахалинск" филиал "Аэропорт Оха" | BS108: АО "Аэропорт Южно-Сахалинск" филиал "Аэропорт Оха" | BT108: АО "Аэропорт Южно-Сахалинск" филиал "Аэропорт Оха" | BU108: АО "Аэропорт Южно-Сахалинск" филиал "Аэропорт Оха" | BV108: АО "Аэропорт Южно-Сахалинск" филиал "Аэропорт Оха" | BW108: АО "Аэропорт Южно-Сахалинск" филиал "Аэропорт Оха" | BX108: 5 | CR108: 0.082598 | DN108: =CR108 -> 0.082598 | DO108: 0.078873 | DP108: 0.078873 | DQ108: 0.078873 | DR108: 0.078873 | DS108: 0.078873 | DT108: 0.078873 | DU108: 0.078873 | DV108: 0.078873 | DW108: 0.078873 | DX108: 0.078873 | DY108: 0.078873 | DZ108: 0.078873 | EA108: 0.078873 | EB108: 0.078873 | EC108: 0.078873 | ED108: 0.078873 | EE108: 0.078873 | EF108: 0.078873 | EG108: 0.078873 | EH108: 0.078873 | EI108: 0.078873 | EJ108: 0.078873
BA109: АО " Авиашельф" | BB109: АО " Авиашельф" | BC109: АО " Авиашельф" | BD109: АО " Авиашельф" | BE109: АО " Авиашельф" | BF109: АО " Авиашельф" | BG109: АО " Авиашельф" | BH109: АО " Авиашельф" | BI109: АО " Авиашельф" | BJ109: АО " Авиашельф" | BK109: АО " Авиашельф" | BL109: АО " Авиашельф" | BM109: АО " Авиашельф" | BN109: АО " Авиашельф" | BO109: АО " Авиашельф" | BP109: АО " Авиашельф" | BQ109: АО " Авиашельф" | BR109: АО " Авиашельф" | BS109: АО " Авиашельф" | BT109: АО " Авиашельф" | BU109: АО " Авиашельф" | BV109: АО " Авиашельф" | BW109: АО " Авиашельф" | CR109: 0 | CS109: 0 | CT109: 0 | CU109: 0 | CV109: 0 | CW109: 0 | CX109: 0 | CY109: 0 | CZ109: 0 | DA109: 0 | DB109: 0 | DC109: 0 | DD109: 0 | DE109: 0 | DF109: 0 | DG109: 0 | DH109: 0 | DI109: 0 | DJ109: 0 | DK109: 0 | DL109: 0 | DM109: 0 | DN109: 0 | DO109: 0 | DP109: 0 | DQ109: 0 | DR109: 0 | DS109: 0 | DT109: 0 | DU109: 0 | DV109: 0 | DW109: 0 | DX109: 0 | DY109: 0 | DZ109: 0 | EA109: 0 | EB109: 0 | EC109: 0 | ED109: 0 | EE109: 0 | EF109: 0 | EG109: 0 | EH109: 0 | EI109: 0 | EJ109: 0
A110: Газопровод "Даги-Оха" | AA110: Сахалинская обл., Ногликский район | BA110: АО "Ногликская ГЭС" | BB110: АО "Ногликская ГЭС" | BC110: АО "Ногликская ГЭС" | BD110: АО "Ногликская ГЭС" | BE110: АО "Ногликская ГЭС" | BF110: АО "Ногликская ГЭС" | BG110: АО "Ногликская ГЭС" | BH110: АО "Ногликская ГЭС" | BI110: АО "Ногликская ГЭС" | BJ110: АО "Ногликская ГЭС" | BK110: АО "Ногликская ГЭС" | BL110: АО "Ногликская ГЭС" | BM110: АО "Ногликская ГЭС" | BN110: АО "Ногликская ГЭС" | BO110: АО "Ногликская ГЭС" | BP110: АО "Ногликская ГЭС" | BQ110: АО "Ногликская ГЭС" | BR110: АО "Ногликская ГЭС" | BS110: АО "Ногликская ГЭС" | BT110: АО "Ногликская ГЭС" | BU110: АО "Ногликская ГЭС" | BV110: АО "Ногликская ГЭС" | BW110: АО "Ногликская ГЭС" | BX110: 3 | CR110: 0 | DN110: =CR110 -> 0 | DO110: 0 | DP110: 0 | DQ110: 0 | DR110: 0 | DS110: 0 | DT110: 0 | DU110: 0 | DV110: 0 | DW110: 0 | DX110: 0 | DY110: 0 | DZ110: 0 | EA110: 0 | EB110: 0 | EC110: 0 | ED110: 0 | EE110: 0 | EF110: 0 | EG110: 0 | EH110: 0 | EI110: 0 | EJ110: 0 | EK110: =EL15 -> 9.01
B111: Итого | AB111: х | BB111: х | BY111: х | CR111: =CR104+CR105+CR106+CR107+CR108+CR110 -> 10.783598 | DN111: =DN104+DN105+DN106+DN107+DN108+DN110 -> 10.783598
EU113: Форма 7
A115: Информация о наличии (отсутствии) технической возможности доступа к регулируемым услугам по транспортировке газа по газораспределительным сетям (с детализацией
P116: по группам газопотребления) | BC116: ООО "ННК-САХАЛИНМОРНЕФТЕГАЗ" за | DK116: за февраль 20 | DR116: 24 | DV116: год
BC117: (наименование субъекта естественной монополии)
A119: Группа потребления | AV119: Объемы газа в соответствии с поступившими заявками, тыс. м3 | BY119: Объемы газа в соответствии с удовлетворенными заявками, тыс. м3
A120: 1 | AV120: 2 | BY120: 3
B121: Дифференцированный тариф всего, в том числе: | AV121: 0 | BY121: 0
B122: 1а группа | AV122: 0 | BY122: 0
B123: 1 группа | AV123: 0 | BY123: 0
B124: 2 группа | AV124: =CR104*1000 -> 9926 | BY124: =DN104*1000 -> 9926
...
