Workbook

Sheet май
FE1: Приложение № 4
EI2: к приказу ФАС России от 08.12.2022 № 960/22
FE4: Форма 1
A6: Информация о наличии (отсуствии) технической возможности доступа к регулируемым услугам по транспортировке газа по магистральным газопроводам ООО "ННК-САХАЛИНМОРНЕФТЕГАЗ"
AV8: (наименование субъекта естественной монополии)
AW9: в зонах входа на (за) | BZ9: май | CR9: 20 | CV9: 24 | CZ9: года
C10: (месяц) | N10: май (план)
A12: № | F12: Наименование зоны входа | W12: Наименование магистрального трубопровода | AO12: Точка входа | AZ12: Техническая мощность точки входа | BQ12: Поставщик, владелец газа | CJ12: Объемы газа в соответствии с поступив-шими заявками | DA12: Объемы газа в соответствии с удовлетво-ренными заявками | DR12: Фактическая мощность магистрального трубопровода в конце зоны входа | EL12: Свободная мощность магистрального трубопровода в конце зоны входа
A13: 1 | F13: 2 | W13: 3 | AO13: 4 | AZ13: 5 | BQ13: 6 | CJ13: 7 | DA13: 8 | DR13: 9 | EL13: 10
A14: 1 | F14: г/пр "Даги-Оха", ДКС "Одопту", г/пр "Сабо-Тунгор" | W14: г/пр "Тунгор - ГРС Оха" | AO14: ГРС "Оха" | AZ14: =40.291 -> 40.291 | BQ14: Проект "Сахалин-1", ООО "ННК-Сахалинморнефтегаз" | CJ14: 13.142 | DA14: =CJ14 -> 13.142 | DR14: =DA14 -> 13.142 | EL14: =AZ14-DR14 -> 27.149
A15: 2 | F15: г/пр "Даги-Оха" | W15: г/пр "Даги - Ноглики - Катангли" | AO15: ГРС "Ноглики", ГРП "Катангли", ГРП "Вал" | AZ15: 13.333 | BQ15: Проект "Сахалин-1", ООО "ННК-Сахалинморнефтегаз" | CJ15: 11.696 | DA15: =CJ15 -> 11.696 | DR15: =DA15 -> 11.696 | EL15: =AZ15-DR15 -> 1.637
A16: 3 | F16: КУ "Боатасино" | W16: МГП "Оха - Комсомольск-на-Амуре" | AO16: ГРС "Лазарево", ГРС "Лазарево" (ПАЭС), ГРС "Де-Кастри", АГРС "Циммермановка", ГРС "Николаевская ТЭЦ", ГРС "Амурск"№, ГРС-1 г.Комсомольск-на-Амуре | AZ16: 87.5 | BQ16: ПАО НК "Роснефть",ООО "ННК-Сахалинморнефтегаз" Проект "Сахалин 1", | CJ16: 109.888 | DA16: =CJ16 -> 109.888 | DR16: =DA16 -> 109.888 | EL16: нет свободной мощности
FE19: Форма 2
A21: Информация о наличии (отсутствии) технической возможности доступа к регулируемым услугам по транспортировке газа по магистральным газопроводам
AV22: ООО "ННК-САХАЛИНМОРНЕФТЕГАЗ"
AV23: (наименование субъекта естественной монополии)
AW24: в зонах выхода на (за) | BZ24: май | CR24: 20 | CV24: 24 | CZ24: года
C25: (месяц) | N25: май (план)
A27: № | F27: Наименование зоны выхода | W27: Наименование магистрального трубопровода | AO27: Точка выхода | AZ27: Техни-ческая мощность точки выхода | BN27: Потребитель, владелец газа | CG27: Объемы газа в соответствии с поступившими заявками | CY27: Объемы газа в соответствии с удовлетворенными заявками | DT27: Фактическая мощность магистрального трубопровода в начале зоны выхода | EM27: Свободная мощность магистрального трубопровода в точке выхода
A28: 1 | F28: 2 | W28: 3 | AO28: 4 | AZ28: 5 | BN28: 6 | CG28: 7 | CY28: 8 | DT28: 9 | EM28: 10
A29: 1 | F29: г/пр "Даги-Оха", ДКС "Одопту", г/пр "Сабо-Тунгор" | W29: г/пр "Тунгор - ГРС Оха" | AO29: ГРС "Оха" | AZ29: 40.291 | BN29: Проект "Сахалин-1", ООО "ННК-"Сахалинморнефтегаз" | CG29: =CJ14 -> 13.142 | CY29: =DA14 -> 13.142 | DT29: =CY29 -> 13.142 | EM29: =AZ29-DT29 -> 27.149
A30: 2 | F30: г/пр "Даги-Оха" | W30: г/пр "Даги - Ноглики - Катангли" | AO30: ГРС "Ноглики", ГРП "Катангли", ГРП "Вал" | AZ30: 13.333 | BN30: Проект "Сахалин-1", ООО "ННК-Сахалинморнефтегаз" | CG30: =CJ15 -> 11.696 | CY30: =DA15 -> 11.696 | DT30: =CY30 -> 11.696 | EM30: =AZ30-DT30 -> 1.637
A31: 3 | F31: КУ "Боатасино" | W31: МГП "Оха - Комсомольск-на-Амуре" | AO31: ГРС "Лазарево", ГРС "Лазарево" (ПАЭС), ГРС "Де-Кастри", АГРС "Циммермановка", ГРС "Николаевская ТЭЦ", ГРС "Амурск"№, ГРС-1 г.Комсомольск-на-Амуре | AZ31: 87.5 | BN31: ПАО НК "Роснефть",ООО "ННК-Сахалинморнефтегаз" Проект "Сахалин 1", | CG31: =CJ16 -> 109.888 | CY31: =DA16 -> 109.888 | DT31: =CY31 -> 109.888 | EM31: =EL16 -> нет свободной мощности
FE33: Форма 3
A35: Информация о наличии (отсутствии) технической возможности доступа к регулируемым услугам по транспортировке газа
AD36: по магистральным газопроводам ООО "ННК-САХАЛИНМОРНЕФТЕГАЗ"
BU37: (наименование субъекта естественной монополии)
AM38: между зонами входа и выхода на (за) | CI38: май | DA38: 20 | DE38: 24 | DI38: года
C39: (месяц) | N39: май (план)
A41: Номер зоны выхода | L41: Наименование зоны выхода | AD41: Номер и наименование зон входа
AD42: 1 | BK42: 2 | CR42: 3 | DY42: …
AD43: Y | BK43: YY | CR43: YYY | DY43: …
AD44: Величина свободной мощности | AT44: Лимити-рующий участок | BK44: Величина свободной мощности | CA44: Лимити-рующий участок | CR44: Величина свободной мощности | DH44: Лимити-рующий участок | DY44: Величина свободной мощности | EO44: Лимити-рующий участок
A45: 1 | L45: X
A46: 2 | L46: XX
A47: 3 | L47: XXX
A48: … | L48: …
FE50: Форма 4
A52: Информация о наличии (отсутствии) технической возможности доступа к регулируемым услугам по транспортировке газа по магистральным газопроводам ООО "ННК-САХАЛИНМОРНЕФТЕГАЗ"
AV53: (наименование субъекта естественной монополии)
...
