Workbook

Sheet август
FE1: Приложение № 4
EI2: к приказу ФАС России от 08.12.2022 № 960/22
FE4: Форма 1
A6: Информация о наличии (отсуствии) технической возможности доступа к регулируемым услугам по транспортировке газа по магистральным газопроводам ООО "ННК-САХАЛИНМОРНЕФТЕГАЗ"
AV8: (наименование субъекта естественной монополии)
AW9: в зонах входа на (за) | BZ9: август | CR9: 20 | CV9: 24 | CZ9: года
C10: (месяц) | N10: август (план)
A12: № | F12: Наименование зоны входа | W12: Наименование магистрального трубопровода | AO12: Точка входа | AZ12: Техническая мощность точки входа | BQ12: Поставщик, владелец газа | CJ12: Объемы газа в соответствии с поступив-шими заявками | DA12: Объемы газа в соответствии с удовлетво-ренными заявками | DR12: Фактическая мощность магистрального трубопровода в конце зоны входа | EL12: Свободная мощность магистрального трубопровода в конце зоны входа
A13: 1 | F13: 2 | W13: 3 | AO13: 4 | AZ13: 5 | BQ13: 6 | CJ13: 7 | DA13: 8 | DR13: 9 | EL13: 10
A14: 1 | F14: г/пр "Даги-Оха", ДКС "Одопту", г/пр "Сабо-Тунгор" | W14: г/пр "Тунгор - ГРС Оха" | AO14: ГРС "Оха" | AZ14: =40.291 -> 40.291 | BQ14: Проект "Сахалин-1", ООО "ННК-Сахалинморнефтегаз" | CJ14: 8.735 | DA14: =CJ14 -> 8.735 | DR14: =DA14 -> 8.735 | EL14: =AZ14-DR14 -> 31.556
A15: 2 | F15: г/пр "Даги-Оха" | W15: г/пр "Даги - Ноглики - Катангли" | AO15: ГРС "Ноглики", ГРП "Катангли", ГРП "Вал" | AZ15: 13.333 | BQ15: Проект "Сахалин-1", ООО "ННК-Сахалинморнефтегаз" | CJ15: 10.289 | DA15: =CJ15 -> 10.289 | DR15: =DA15 -> 10.289 | EL15: =AZ15-DR15 -> 3.044
A16: 3 | F16: КУ "Боатасино" | W16: МГП "Оха - Комсомольск-на-Амуре" | AO16: ГРС "Лазарево", ГРС "Лазарево" (ПАЭС), ГРС "Де-Кастри", АГРС "Циммермановка", ГРС "Николаевская ТЭЦ", ГРС "Амурск"№, ГРС-1 г.Комсомольск-на-Амуре | AZ16: 87.5 | BQ16: ПАО НК "Роснефть",ООО "ННК-Сахалинморнефтегаз" Проект "Сахалин 1", | CJ16: 74.313 | DA16: =CJ16 -> 74.313 | DR16: =DA16 -> 74.313 | EL16: =AZ16-DR16 -> 13.187
FE19: Форма 2
A21: Информация о наличии (отсутствии) технической возможности доступа к регулируемым услугам по транспортировке газа по магистральным газопроводам
AV22: ООО "ННК-САХАЛИНМОРНЕФТЕГАЗ"
AV23: (наименование субъекта естественной монополии)
AW24: в зонах выхода на (за) | BZ24: август | CR24: 20 | CV24: 24 | CZ24: года
C25: (месяц) | N25: август (план)
A27: № | F27: Наименование зоны выхода | W27: Наименование магистрального трубопровода | AO27: Точка выхода | AZ27: Техни-ческая мощность точки выхода | BN27: Потребитель, владелец газа | CG27: Объемы газа в соответствии с поступившими заявками | CY27: Объемы газа в соответствии с удовлетворенными заявками | DT27: Фактическая мощность магистрального трубопровода в начале зоны выхода | EM27: Свободная мощность магистрального трубопровода в точке выхода
A28: 1 | F28: 2 | W28: 3 | AO28: 4 | AZ28: 5 | BN28: 6 | CG28: 7 | CY28: 8 | DT28: 9 | EM28: 10
A29: 1 | F29: г/пр "Даги-Оха", ДКС "Одопту", г/пр "Сабо-Тунгор" | W29: г/пр "Тунгор - ГРС Оха" | AO29: ГРС "Оха" | AZ29: 40.291 | BN29: Проект "Сахалин-1", ООО "ННК-"Сахалинморнефтегаз" | CG29: =CJ14 -> 8.735 | CY29: =DA14 -> 8.735 | DT29: =CY29 -> 8.735 | EM29: =AZ29-DT29 -> 31.556
A30: 2 | F30: г/пр "Даги-Оха" | W30: г/пр "Даги - Ноглики - Катангли" | AO30: ГРС "Ноглики", ГРП "Катангли", ГРП "Вал" | AZ30: 13.333 | BN30: Проект "Сахалин-1", ООО "ННК-Сахалинморнефтегаз" | CG30: =CJ15 -> 10.289 | CY30: =DA15 -> 10.289 | DT30: =CY30 -> 10.289 | EM30: =AZ30-DT30 -> 3.044
A31: 3 | F31: КУ "Боатасино" | W31: МГП "Оха - Комсомольск-на-Амуре" | AO31: ГРС "Лазарево", ГРС "Лазарево" (ПАЭС), ГРС "Де-Кастри", АГРС "Циммермановка", ГРС "Николаевская ТЭЦ", ГРС "Амурск"№, ГРС-1 г.Комсомольск-на-Амуре | AZ31: 87.5 | BN31: ПАО НК "Роснефть",ООО "ННК-Сахалинморнефтегаз" Проект "Сахалин 1", | CG31: =CJ16 -> 74.313 | CY31: =DA16 -> 74.313 | DT31: =CY31 -> 74.313 | EM31: =EL16 -> 13.187
FE33: Форма 3
A35: Информация о наличии (отсутствии) технической возможности доступа к регулируемым услугам по транспортировке газа
AD36: по магистральным газопроводам ООО "ННК-САХАЛИНМОРНЕФТЕГАЗ"
BU37: (наименование субъекта естественной монополии)
AM38: между зонами входа и выхода на (за) | CI38: август | DA38: 20 | DE38: 24 | DI38: года
C39: (месяц) | N39: август (план)
A41: Номер зоны выхода | L41: Наименование зоны выхода | AD41: Номер и наименование зон входа
AD42: 1 | BK42: 2 | CR42: 3 | DY42: …
AD43: Y | BK43: YY | CR43: YYY | DY43: …
AD44: Величина свободной мощности | AT44: Лимити-рующий участок | BK44: Величина свободной мощности | CA44: Лимити-рующий участок | CR44: Величина свободной мощности | DH44: Лимити-рующий участок | DY44: Величина свободной мощности | EO44: Лимити-рующий участок
A45: 1 | L45: X
A46: 2 | L46: XX
A47: 3 | L47: XXX
A48: … | L48: …
FE50: Форма 4
A52: Информация о наличии (отсутствии) технической возможности доступа к регулируемым услугам по транспортировке газа по магистральным газопроводам ООО "ННК-САХАЛИНМОРНЕФТЕГАЗ"
AV53: (наименование субъекта естественной монополии)
BG54: за | BQ54: август | CI54: 20 | CM54: 24 | CQ54: года
O55: (месяц) | Z55: август (план)
A57: Зона входа в магистральный газопровод | W57: Зона выхода из магистрального газопровода | AS57: Поставщик газа/ потребитель | BQ57: Объемы газа в соответствии с поступившими заявками, млн м3 | CV57: Объемы газа в соответствии с удовлетворенными заявками, млн м3 | EA57: Свободная мощность магистральных трубопроводов, млн м3
A58: 1 | W58: 2 | AS58: 3 | BQ58: 4 | CV58: 5 | EA58: 6
A59: г/пр "Даги-Оха", ДКС "Одопту", г/пр "Сабо-Тунгор" | W59: Сахалинская область. Охинский район | AS59: АО "Охинская ТЭЦ" | BQ59: 5.723 | CT59: 8.322 | CU59: 8.322 | CV59: =BQ59 -> 5.723 | EA59: =EL14 -> 31.556
AS60: ОАО "Сахалиноблгаз" | BQ60: 1.54074 | CT60: 3.44 | CU60: 3.44 | CV60: =BQ60 -> 1.54074 | CW60: 3.44 | CX60: 3.44 | CY60: 3.44 | CZ60: 3.44 | DA60: 3.44 | DB60: 3.44 | DC60: 3.44 | DD60: 3.44 | DE60: 3.44 | DF60: 3.44 | DG60: 3.44 | DH60: 3.44 | DI60: 3.44 | DJ60: 3.44 | DK60: 3.44 | DL60: 3.44 | DM60: 3.44 | DN60: 3.44 | DO60: 3.44 | DP60: 3.44 | DQ60: 3.44 | DR60: 3.44 | DS60: 3.44 | DT60: 3.44 | DU60: 3.44 | DV60: 3.44 | DW60: 3.44 | DX60: 3.44 | DY60: 3.44 | DZ60: 3.44
AS61: МУП "Охинское коммунальное хозяйство" МО ГО "Охинский" | BQ61: 0 | CT61: 0.026 | CU61: 0.026 | CV61: =BQ61 -> 0 | CW61: 0.026 | CX61: 0.026 | CY61: 0.026 | CZ61: 0.026 | DA61: 0.026 | DB61: 0.026 | DC61: 0.026 | DD61: 0.026 | DE61: 0.026 | DF61: 0.026 | DG61: 0.026 | DH61: 0.026 | DI61: 0.026 | DJ61: 0.026 | DK61: 0.026 | DL61: 0.026 | DM61: 0.026 | DN61: 0.026 | DO61: 0.026 | DP61: 0.026 | DQ61: 0.026 | DR61: 0.026 | DS61: 0.026 | DT61: 0.026 | DU61: 0.026 | DV61: 0.026 | DW61: 0.026 | DX61: 0.026 | DY61: 0.026 | DZ61: 0.026
AS62: АО "Аэропорт Южно-Сахалинск" | BQ62: 0 | CT62: 0.082598 | CU62: 0.082598 | CV62: =BQ62 -> 0 | CW62: 0.082598 | CX62: 0.082598 | CY62: 0.082598 | CZ62: 0.082598 | DA62: 0.082598 | DB62: 0.082598 | DC62: 0.082598 | DD62: 0.082598 | DE62: 0.082598 | DF62: 0.082598 | DG62: 0.082598 | DH62: 0.082598 | DI62: 0.082598 | DJ62: 0.082598 | DK62: 0.082598 | DL62: 0.082598 | DM62: 0.082598 | DN62: 0.082598 | DO62: 0.082598 | DP62: 0.082598 | DQ62: 0.082598 | DR62: 0.082598 | DS62: 0.082598 | DT62: 0.082598 | DU62: 0.082598 | DV62: 0.082598 | DW62: 0.082598 | DX62: 0.082598 | DY62: 0.082598 | DZ62: 0.082598
AS63: Охинское государственное унитарное дорожное предприятие Сахалинской области | BQ63: 0.035 | CT63: 0.07 | CU63: 0.07 | CV63: =BQ63 -> 0.035 | CW63: 0.07 | CX63: 0.07 | CY63: 0.07 | CZ63: 0.07 | DA63: 0.07 | DB63: 0.07 | DC63: 0.07 | DD63: 0.07 | DE63: 0.07 | DF63: 0.07 | DG63: 0.07 | DH63: 0.07 | DI63: 0.07 | DJ63: 0.07 | DK63: 0.07 | DL63: 0.07 | DM63: 0.07 | DN63: 0.07 | DO63: 0.07 | DP63: 0.07 | DQ63: 0.07 | DR63: 0.07 | DS63: 0.07 | DT63: 0.07 | DU63: 0.07 | DV63: 0.07 | DW63: 0.07 | DX63: 0.07 | DY63: 0.07 | DZ63: 0.07
AS64: ООО "ННК-Сахалинморнефтегаз" | BQ64: 1.436013 | CT64: 0 | CU64: 0 | CV64: =BQ64 -> 1.436013 | CW64: =[1]СН!CQ58 -> 0 | CX64: =[1]СН!CR58 -> 0 | CY64: =[1]СН!CS58 -> 0 | CZ64: =[1]СН!CT58 -> 0 | DA64: =[1]СН!CU58 -> 0 | DB64: =[1]СН!CV58 -> 0 | DC64: =[1]СН!CW58 -> 0 | DD64: =[1]СН!CX58 -> 0 | ... DZ64: =[1]СН!DT58 -> 0
A65: г/пр "Даги-Оха" | W65: Сахалинская область, Ногликский район | AS65: ОАО "Сахалиноблгаз" | BQ65: 0.66254 | CT65: 1.682 | CU65: 1.682 | CV65: =BQ65 -> 0.66254 | CW65: 1.682 | CX65: 1.682 | CY65: 1.682 | CZ65: 1.682 | DA65: 1.682 | DB65: 1.682 | DC65: 1.682 | DD65: 1.682 | DE65: 1.682 | DF65: 1.682 | DG65: 1.682 | DH65: 1.682 | DI65: 1.682 | DJ65: 1.682 | DK65: 1.682 | DL65: 1.682 | DM65: 1.682 | DN65: 1.682 | DO65: 1.682 | DP65: 1.682 | DQ65: 1.682 | DR65: 1.682 | DS65: 1.682 | DT65: 1.682 | DU65: 1.682 | DV65: 1.682 | DW65: 1.682 | DX65: 1.682 | DY65: 1.682 | DZ65: 1.682 | EA65: =EM30 -> 3.044
AS66: АО "Ногликская ГЭС" | BQ66: 8.1 | CT66: 6.2 | CU66: 6.2 | CV66: =BQ66 -> 8.1 | CW66: 6.2 | CX66: 6.2 | CY66: 6.2 | CZ66: 6.2 | DA66: 6.2 | DB66: 6.2 | DC66: 6.2 | DD66: 6.2 | DE66: 6.2 | DF66: 6.2 | DG66: 6.2 | DH66: 6.2 | DI66: 6.2 | DJ66: 6.2 | DK66: 6.2 | DL66: 6.2 | DM66: 6.2 | DN66: 6.2 | DO66: 6.2 | DP66: 6.2 | DQ66: 6.2 | DR66: 6.2 | DS66: 6.2 | DT66: 6.2 | DU66: 6.2 | DV66: 6.2 | DW66: 6.2 | DX66: 6.2 | DY66: 6.2 | DZ66: 6.2
AT67: ООО "Газпром межрегионгаз Дальний Восток" | AU67: ООО "Газпром межрегионгаз Дальний Восток" | AV67: ООО "Газпром межрегионгаз Дальний Восток" | AW67: ООО "Газпром межрегионгаз Дальний Восток" | AX67: ООО "Газпром межрегионгаз Дальний Восток" | AY67: ООО "Газпром межрегионгаз Дальний Восток" | AZ67: ООО "Газпром межрегионгаз Дальний Восток" | BA67: ООО "Газпром межрегионгаз Дальний Восток" | BB67: ООО "Газпром межрегионгаз Дальний Восток" | BC67: ООО "Газпром межрегионгаз Дальний Восток" | BD67: ООО "Газпром межрегионгаз Дальний Восток" | BE67: ООО "Газпром межрегионгаз Дальний Восток" | BF67: ООО "Газпром межрегионгаз Дальний Восток" | BG67: ООО "Газпром межрегионгаз Дальний Восток" | BH67: ООО "Газпром межрегионгаз Дальний Восток" | BI67: ООО "Газпром межрегионгаз Дальний Восток" | BJ67: ООО "Газпром межрегионгаз Дальний Восток" | BK67: ООО "Газпром межрегионгаз Дальний Восток" | BL67: ООО "Газпром межрегионгаз Дальний Восток" | BM67: ООО "Газпром межрегионгаз Дальний Восток" | BN67: ООО "Газпром межрегионгаз Дальний Восток" | BO67: ООО "Газпром межрегионгаз Дальний Восток" | BP67: ООО "Газпром межрегионгаз Дальний Восток"
AS68: ООО "ННК-Сахалинморнефтегаз" | BQ68: 1.526553 | CT68: 3.50009 | CU68: 3.50009 | CV68: =BQ68 -> 1.526553 | CW68: 3.50009 | CX68: 3.50009 | CY68: 3.50009 | CZ68: 3.50009 | DA68: 3.50009 | DB68: 3.50009 | DC68: 3.50009 | DD68: 3.50009 | DE68: 3.50009 | DF68: 3.50009 | DG68: 3.50009 | DH68: 3.50009 | DI68: 3.50009 | DJ68: 3.50009 | DK68: 3.50009 | DL68: 3.50009 | DM68: 3.50009 | DN68: 3.50009 | DO68: 3.50009 | DP68: 3.50009 | DQ68: 3.50009 | DR68: 3.50009 | DS68: 3.50009 | DT68: 3.50009 | DU68: 3.50009 | DV68: 3.50009 | DW68: 3.50009 | DX68: 3.50009 | DY68: 3.50009 | DZ68: 3.50009
A69: КУ "Боатасино" | W69: Николаевский район Хабаровского края; Ульчский район Хабаровского края, Комсомольский район Хабаровского края | AS69: АО "Дальневосточная генерирующая компания" | BQ69: 65 | CT69: 164.82444 | CU69: 164.82444 | CV69: =BQ69 -> 65 | CW69: =162.024444+2.8 -> 164.82444 | CX69: =162.024444+2.8 -> 164.82444 | CY69: =162.024444+2.8 -> 164.82444 | CZ69: =162.024444+2.8 -> 164.82444 | DA69: =162.024444+2.8 -> 164.82444 | DB69: =162.024444+2.8 -> 164.82444 | DC69: =162.024444+2.8 -> 164.82444 | DD69: =162.024444+2.8 -> 164.82444 | ... DZ69: =162.024444+2.8 -> 164.82444 | EA69: =EM31 -> 13.187
AS70: АО "Газпром газораспределение ДВ" | BQ70: 8.160021 | CT70: 0 | CU70: 0 | CV70: =BQ70 -> 8.160021 | CW70: =CW78+CW79 -> 0 | CX70: =CX78+CX79 -> 0 | CY70: =CY78+CY79 -> 0 | CZ70: =CZ78+CZ79 -> 0 | DA70: =DA78+DA79 -> 0 | DB70: =DB78+DB79 -> 0 | DC70: =DC78+DC79 -> 0 | DD70: =DD78+DD79 -> 0 | ... DZ70: =DZ78+DZ79 -> 0
AS71: АО "Сахалинморнефтегаз-Шельф" | BQ71: 1.085 | CV71: =BQ71 -> 1.085
AS72: ООО "РН-Комсомольский НПЗ" | BQ72: 0 | CT72: 7.843 | CU72: 7.843 | CV72: =BQ72 -> 0 | CW72: =0.561+7.282 -> 7.843 | CX72: =0.561+7.282 -> 7.843 | CY72: =0.561+7.282 -> 7.843 | CZ72: =0.561+7.282 -> 7.843 | DA72: =0.561+7.282 -> 7.843 | DB72: =0.561+7.282 -> 7.843 | DC72: =0.561+7.282 -> 7.843 | DD72: =0.561+7.282 -> 7.843 | ... DZ72: =0.561+7.282 -> 7.843
AS73: ООО "Газпром трансгаз Томск" | BQ73: 0.05 | CT73: 7.843 | CU73: 7.843 | CV73: =BQ73 -> 0.05 | CW73: =0.561+7.282 -> 7.843 | CX73: =0.561+7.282 -> 7.843 | CY73: =0.561+7.282 -> 7.843 | CZ73: =0.561+7.282 -> 7.843 | DA73: =0.561+7.282 -> 7.843 | DB73: =0.561+7.282 -> 7.843 | DC73: =0.561+7.282 -> 7.843 | DD73: =0.561+7.282 -> 7.843 | ... DZ73: =0.561+7.282 -> 7.843
AS74: ООО "ННК-Сахалинморнефтегаз" | BQ74: 0.01781 | CT74: 0 | CU74: 0 | CV74: =BQ74 -> 0.01781 | CW74: =[1]СН!CQ67 -> 0 | CX74: =[1]СН!CR67 -> 0 | CY74: =[1]СН!CS67 -> 0 | CZ74: =[1]СН!CT67 -> 0 | DA74: =[1]СН!CU67 -> 0 | DB74: =[1]СН!CV67 -> 0 | DC74: =[1]СН!CW67 -> 0 | DD74: =[1]СН!CX67 -> 0 | ... DZ74: =[1]СН!DT67 -> 0
W75: Сахалинская область, Ногликский район | AS75: АО "Дальневосточная генерирующая компания" | BQ75: 58.489192 | CT75: 0 | CU75: 0 | CV75: =BQ75 -> 58.489192 | CW75: =#REF! -> #REF! | CX75: =#REF! -> #REF! | CY75: =#REF! -> #REF! | CZ75: =#REF! -> #REF! | DA75: =#REF! -> #REF! | DB75: =#REF! -> #REF! | DC75: =#REF! -> #REF! | DD75: =#REF! -> #REF! | ... DZ75: =#REF! -> #REF!
AS76: АО "Газпром газораспределение ДВ" | BQ76: 12.1743 | CT76: 19.185759 | CU76: 19.185759 | CV76: =BQ76 -> 12.1743 | CW76: 19.185759 | CX76: 19.185759 | CY76: 19.185759 | CZ76: 19.185759 | DA76: 19.185759 | DB76: 19.185759 | DC76: 19.185759 | DD76: 19.185759 | DE76: 19.185759 | DF76: 19.185759 | DG76: 19.185759 | DH76: 19.185759 | DI76: 19.185759 | DJ76: 19.185759 | DK76: 19.185759 | DL76: 19.185759 | DM76: 19.185759 | DN76: 19.185759 | DO76: 19.185759 | DP76: 19.185759 | DQ76: 19.185759 | DR76: 19.185759 | DS76: 19.185759 | DT76: 19.185759 | DU76: 19.185759 | DV76: 19.185759 | DW76: 19.185759 | DX76: 19.185759 | DY76: 19.185759 | DZ76: 19.185759
B77: Итого: | X77: х | AT77: х | BQ77: =BQ59+BQ60+BQ61+BQ62+BQ63+BQ64+BQ65+BQ66+BQ67+BQ68+BQ69+BQ70+BQ71+BQ72+BQ74+BQ75+BQ76+BQ73 -> 164.00017 | CV77: =CV59+CV60+CV61+CV62+CV63+CV64+CV65+CV66+CV67+CV68+CV69+CV70+CV71+CV72+CV74+CV75+CV76+CV73 -> 164.00017 | EA77: х
FH79: Форма 5
A81: Информация о наличии (отсутствии) технической возможности доступа к регулируемым услугам по транспортировке газа по магистральным газопроводам для целей определения возможности технологического присоединения к газораспределительным сетям
A83: Субъект Российской Федерации | R83: Наименование газораспредели-тельной станции (участков магистрального газопровода, за исключением газопровода- отвода) | AL83: Проектная мощность (производитель-ность) газораспредели-тельной станции (участков магистрального газопровода, за исключением газопровода-отвода), тыс. м3/час | BC83: Загрузка газораспредели-тельной станции (участков магистрального газопровода, за исключением газопровода-отвода), тыс. м3/час | BT83: Суммарный объем газа по действующим техническим условиям на подключение (в т.ч. суммарный объем газа в рамках догазификации), тыс. м3/час | CK83: Наличие (дефицит) пропускной способности (в % от проектной мощности), тыс. м3/час | CZ83: Наличие уведомления газораспределительной организации (далее - ГРО) об отклоненных заявках и заключенных договоров в рамках догазификации со сроком технологического подключения при увеличении пропускной способности с указанием величины превышения (в % от пропускной способности газораспределительной станции) | DY83: План мероприятий по увеличению пропускной способности
DY84: Основание | EK84: Срок меропри-ятий | EW84: Параметры увеличе- ния
A85: 1 | R85: 2 | AL85: 3 | BC85: 4 | BT85: 5 | CK85: 6 | CZ85: 7 | DY85: 8 | EK85: 9 | EW85: 10
A86: Сахалинская область | R86: ГРС "Оха" | AL86: 80 | BC86: 25 | CK86: =AL86-BC86 -> 55
R87: ГРС "Ноглики" | AL87: 9 | BC87: 2.4 | CK87: =AL87-BC87 -> 6.6
A88: Хабаровский край | R88: ГРС "Лазарево" | AL88: 5 | BC88: 0.9 | CK88: =AL88-BC88 -> 4.1
R89: ГРС "Де-Кастри" | AL89: 40 | BC89: 1.1 | CK89: =AL89-BC89 -> 38.9
R90: АГРС "Циммермановка" | AL90: 4.8 | BC90: 0.6 | CK90: =AL90-BC90 -> 4.2
R91: ГРС "Лазарево" (ПАЭС) | AL91: 15 | BC91: 0 | CK91: =AL91-BC91 -> 15
R92: ГРС "Амурск" | AL92: 150 | BC92: 44.4 | CK92: =AL92-BC92 -> 105.6
R93: ГРС "Комсомольск" | AL93: 160 | BC93: 160 | CK93: =AL93-BC93 -> 0
FG95: Форма 6
A97: Информация о наличии (отсутствии) технической возможности доступа к регулируемым услугам по транспортировке газа по газораспределительным сетям ООО "ННК-САХАЛИНМОРНЕФТЕГАЗ"
AW99: (наименование субъекта естественной монополии)
BH100: за | BR100: август | CJ100: 20 | CN100: 24 | CR100: года
J101: (месяц) август | Y101: (план)
A103: Точка входа в газораспределительную сеть | AA103: Точка выхода из газораспределительной сети | BA103: Наименование потребителя | BX103: Номер группы газопотребления/ транзит | CR103: Объемы газа в соответствии с поступившими заявками, млн м3 | DN103: Объемы газа в соответствии с удовлетворен- ными заявками, млн м3 | EK103: Свободная мощность газораспредели-тельной сети, млн м3/месяц
A104: 1 | AA104: 2 | BA104: 3 | BX104: 4 | CR104: 5 | DN104: 6 | EK104: 7
A105: ГРС"Оха" | AA105: Сахалинская обл., Охинский район | BA105: АО "Охинская ТЭЦ" | BB105: АО "Охинская ТЭЦ" | BC105: АО "Охинская ТЭЦ" | BD105: АО "Охинская ТЭЦ" | BE105: АО "Охинская ТЭЦ" | BF105: АО "Охинская ТЭЦ" | BG105: АО "Охинская ТЭЦ" | BH105: АО "Охинская ТЭЦ" | BI105: АО "Охинская ТЭЦ" | BJ105: АО "Охинская ТЭЦ" | BK105: АО "Охинская ТЭЦ" | BL105: АО "Охинская ТЭЦ" | BM105: АО "Охинская ТЭЦ" | BN105: АО "Охинская ТЭЦ" | BO105: АО "Охинская ТЭЦ" | BP105: АО "Охинская ТЭЦ" | BQ105: АО "Охинская ТЭЦ" | BR105: АО "Охинская ТЭЦ" | BS105: АО "Охинская ТЭЦ" | BT105: АО "Охинская ТЭЦ" | BU105: АО "Охинская ТЭЦ" | BV105: АО "Охинская ТЭЦ" | BW105: АО "Охинская ТЭЦ" | BX105: 2 | CR105: 5.723 | CS105: 8.322 | CT105: 8.322 | CU105: 8.322 | CV105: 8.322 | CW105: 8.322 | CX105: 8.322 | CY105: 8.322 | CZ105: 8.322 | DA105: 8.322 | DB105: 8.322 | DC105: 8.322 | DD105: 8.322 | DE105: 8.322 | DF105: 8.322 | DG105: 8.322 | DH105: 8.322 | DI105: 8.322 | DJ105: 8.322 | DK105: 8.322 | DL105: 8.322 | DM105: 8.322 | DN105: =CR105 -> 5.723 | DO105: 6.55373 | DP105: 6.55373 | DQ105: 6.55373 | DR105: 6.55373 | DS105: 6.55373 | DT105: 6.55373 | DU105: 6.55373 | DV105: 6.55373 | DW105: 6.55373 | DX105: 6.55373 | DY105: 6.55373 | DZ105: 6.55373 | EA105: 6.55373 | EB105: 6.55373 | EC105: 6.55373 | ED105: 6.55373 | EE105: 6.55373 | EF105: 6.55373 | EG105: 6.55373 | EH105: 6.55373 | EI105: 6.55373 | EJ105: 6.55373 | EK105: =EL14 -> 31.556
BA106: ОАО "Сахалиноблгаз" | BB106: ОАО "Сахалиноблгаз" | BC106: ОАО "Сахалиноблгаз" | BD106: ОАО "Сахалиноблгаз" | BE106: ОАО "Сахалиноблгаз" | BF106: ОАО "Сахалиноблгаз" | BG106: ОАО "Сахалиноблгаз" | BH106: ОАО "Сахалиноблгаз" | BI106: ОАО "Сахалиноблгаз" | BJ106: ОАО "Сахалиноблгаз" | BK106: ОАО "Сахалиноблгаз" | BL106: ОАО "Сахалиноблгаз" | BM106: ОАО "Сахалиноблгаз" | BN106: ОАО "Сахалиноблгаз" | BO106: ОАО "Сахалиноблгаз" | BP106: ОАО "Сахалиноблгаз" | BQ106: ОАО "Сахалиноблгаз" | BR106: ОАО "Сахалиноблгаз" | BS106: ОАО "Сахалиноблгаз" | BT106: ОАО "Сахалиноблгаз" | BU106: ОАО "Сахалиноблгаз" | BV106: ОАО "Сахалиноблгаз" | BW106: ОАО "Сахалиноблгаз" | BX106: 4 | CR106: 0.02188 | CS106: 0.269 | CT106: 0.269 | CU106: 0.269 | CV106: 0.269 | CW106: 0.269 | CX106: 0.269 | CY106: 0.269 | CZ106: 0.269 | DA106: 0.269 | DB106: 0.269 | DC106: 0.269 | DD106: 0.269 | DE106: 0.269 | DF106: 0.269 | DG106: 0.269 | DH106: 0.269 | DI106: 0.269 | DJ106: 0.269 | DK106: 0.269 | DL106: 0.269 | DM106: 0.269 | DN106: =CR106 -> 0.02188 | DO106: 0.1771 | DP106: 0.1771 | DQ106: 0.1771 | DR106: 0.1771 | DS106: 0.1771 | DT106: 0.1771 | DU106: 0.1771 | DV106: 0.1771 | DW106: 0.1771 | DX106: 0.1771 | DY106: 0.1771 | DZ106: 0.1771 | EA106: 0.1771 | EB106: 0.1771 | EC106: 0.1771 | ED106: 0.1771 | EE106: 0.1771 | EF106: 0.1771 | EG106: 0.1771 | EH106: 0.1771 | EI106: 0.1771 | EJ106: 0.1771
BA107: МУП "Охинское коммунальное хозяйство" МО ГО "Охинский" | BB107: МУП "Охинское коммунальное хозяйство" МО ГО "Охинский" | BC107: МУП "Охинское коммунальное хозяйство" МО ГО "Охинский" | BD107: МУП "Охинское коммунальное хозяйство" МО ГО "Охинский" | BE107: МУП "Охинское коммунальное хозяйство" МО ГО "Охинский" | BF107: МУП "Охинское коммунальное хозяйство" МО ГО "Охинский" | BG107: МУП "Охинское коммунальное хозяйство" МО ГО "Охинский" | BH107: МУП "Охинское коммунальное хозяйство" МО ГО "Охинский" | BI107: МУП "Охинское коммунальное хозяйство" МО ГО "Охинский" | BJ107: МУП "Охинское коммунальное хозяйство" МО ГО "Охинский" | BK107: МУП "Охинское коммунальное хозяйство" МО ГО "Охинский" | BL107: МУП "Охинское коммунальное хозяйство" МО ГО "Охинский" | BM107: МУП "Охинское коммунальное хозяйство" МО ГО "Охинский" | BN107: МУП "Охинское коммунальное хозяйство" МО ГО "Охинский" | BO107: МУП "Охинское коммунальное хозяйство" МО ГО "Охинский" | BP107: МУП "Охинское коммунальное хозяйство" МО ГО "Охинский" | BQ107: МУП "Охинское коммунальное хозяйство" МО ГО "Охинский" | BR107: МУП "Охинское коммунальное хозяйство" МО ГО "Охинский" | BS107: МУП "Охинское коммунальное хозяйство" МО ГО "Охинский" | BT107: МУП "Охинское коммунальное хозяйство" МО ГО "Охинский" | BU107: МУП "Охинское коммунальное хозяйство" МО ГО "Охинский" | BV107: МУП "Охинское коммунальное хозяйство" МО ГО "Охинский" | BW107: МУП "Охинское коммунальное хозяйство" МО ГО "Охинский" | BX107: 5 | CR107: 0 | CS107: 0.0115 | CT107: 0.0115 | CU107: 0.0115 | CV107: 0.0115 | CW107: 0.0115 | CX107: 0.0115 | CY107: 0.0115 | CZ107: 0.0115 | DA107: 0.0115 | DB107: 0.0115 | DC107: 0.0115 | DD107: 0.0115 | DE107: 0.0115 | DF107: 0.0115 | DG107: 0.0115 | DH107: 0.0115 | DI107: 0.0115 | DJ107: 0.0115 | DK107: 0.0115 | DL107: 0.0115 | DM107: 0.0115 | DN107: =CR107 -> 0 | DO107: 0.009418 | DP107: 0.009418 | DQ107: 0.009418 | DR107: 0.009418 | DS107: 0.009418 | DT107: 0.009418 | DU107: 0.009418 | DV107: 0.009418 | DW107: 0.009418 | DX107: 0.009418 | DY107: 0.009418 | DZ107: 0.009418 | EA107: 0.009418 | EB107: 0.009418 | EC107: 0.009418 | ED107: 0.009418 | EE107: 0.009418 | EF107: 0.009418 | EG107: 0.009418 | EH107: 0.009418 | EI107: 0.009418 | EJ107: 0.009418
BA108: Охинское государственное унитарное дорожное предприятие Сахалинской области | BB108: Охинское государственное унитарное дорожное предприятие Сахалинской области | BC108: Охинское государственное унитарное дорожное предприятие Сахалинской области | BD108: Охинское государственное унитарное дорожное предприятие Сахалинской области | BE108: Охинское государственное унитарное дорожное предприятие Сахалинской области | BF108: Охинское государственное унитарное дорожное предприятие Сахалинской области | BG108: Охинское государственное унитарное дорожное предприятие Сахалинской области | BH108: Охинское государственное унитарное дорожное предприятие Сахалинской области | BI108: Охинское государственное унитарное дорожное предприятие Сахалинской области | BJ108: Охинское государственное унитарное дорожное предприятие Сахалинской области | BK108: Охинское государственное унитарное дорожное предприятие Сахалинской области | BL108: Охинское государственное унитарное дорожное предприятие Сахалинской области | BM108: Охинское государственное унитарное дорожное предприятие Сахалинской области | BN108: Охинское государственное унитарное дорожное предприятие Сахалинской области | BO108: Охинское государственное унитарное дорожное предприятие Сахалинской области | BP108: Охинское государственное унитарное дорожное предприятие Сахалинской области | BQ108: Охинское государственное унитарное дорожное предприятие Сахалинской области | BR108: Охинское государственное унитарное дорожное предприятие Сахалинской области | BS108: Охинское государственное унитарное дорожное предприятие Сахалинской области | BT108: Охинское государственное унитарное дорожное предприятие Сахалинской области | BU108: Охинское государственное унитарное дорожное предприятие Сахалинской области | BV108: Охинское государственное унитарное дорожное предприятие Сахалинской области | BW108: Охинское государственное унитарное дорожное предприятие Сахалинской области | BX108: 5 | CR108: 0.035 | CS108: 0.052 | CT108: 0.052 | CU108: 0.052 | CV108: 0.052 | CW108: 0.052 | CX108: 0.052 | CY108: 0.052 | CZ108: 0.052 | DA108: 0.052 | DB108: 0.052 | DC108: 0.052 | DD108: 0.052 | DE108: 0.052 | DF108: 0.052 | DG108: 0.052 | DH108: 0.052 | DI108: 0.052 | DJ108: 0.052 | DK108: 0.052 | DL108: 0.052 | DM108: 0.052 | DN108: =CR108 -> 0.035 | DO108: 0.044864 | DP108: 0.044864 | DQ108: 0.044864 | DR108: 0.044864 | DS108: 0.044864 | DT108: 0.044864 | DU108: 0.044864 | DV108: 0.044864 | DW108: 0.044864 | DX108: 0.044864 | DY108: 0.044864 | DZ108: 0.044864 | EA108: 0.044864 | EB108: 0.044864 | EC108: 0.044864 | ED108: 0.044864 | EE108: 0.044864 | EF108: 0.044864 | EG108: 0.044864 | EH108: 0.044864 | EI108: 0.044864 | EJ108: 0.044864
BA109: АО "Аэропорт Южно-Сахалинск" | BB109: АО "Аэропорт Южно-Сахалинск" филиал "Аэропорт Оха" | BC109: АО "Аэропорт Южно-Сахалинск" филиал "Аэропорт Оха" | BD109: АО "Аэропорт Южно-Сахалинск" филиал "Аэропорт Оха" | BE109: АО "Аэропорт Южно-Сахалинск" филиал "Аэропорт Оха" | BF109: АО "Аэропорт Южно-Сахалинск" филиал "Аэропорт Оха" | BG109: АО "Аэропорт Южно-Сахалинск" филиал "Аэропорт Оха" | BH109: АО "Аэропорт Южно-Сахалинск" филиал "Аэропорт Оха" | BI109: АО "Аэропорт Южно-Сахалинск" филиал "Аэропорт Оха" | BJ109: АО "Аэропорт Южно-Сахалинск" филиал "Аэропорт Оха" | BK109: АО "Аэропорт Южно-Сахалинск" филиал "Аэропорт Оха" | BL109: АО "Аэропорт Южно-Сахалинск" филиал "Аэропорт Оха" | BM109: АО "Аэропорт Южно-Сахалинск" филиал "Аэропорт Оха" | BN109: АО "Аэропорт Южно-Сахалинск" филиал "Аэропорт Оха" | BO109: АО "Аэропорт Южно-Сахалинск" филиал "Аэропорт Оха" | BP109: АО "Аэропорт Южно-Сахалинск" филиал "Аэропорт Оха" | BQ109: АО "Аэропорт Южно-Сахалинск" филиал "Аэропорт Оха" | BR109: АО "Аэропорт Южно-Сахалинск" филиал "Аэропорт Оха" | BS109: АО "Аэропорт Южно-Сахалинск" филиал "Аэропорт Оха" | BT109: АО "Аэропорт Южно-Сахалинск" филиал "Аэропорт Оха" | BU109: АО "Аэропорт Южно-Сахалинск" филиал "Аэропорт Оха" | BV109: АО "Аэропорт Южно-Сахалинск" филиал "Аэропорт Оха" | BW109: АО "Аэропорт Южно-Сахалинск" филиал "Аэропорт Оха" | BX109: 5 | CR109: 0 | CS109: 0.0635 | CT109: 0.0635 | CU109: 0.0635 | CV109: 0.0635 | CW109: 0.0635 | CX109: 0.0635 | CY109: 0.0635 | CZ109: 0.0635 | DA109: 0.0635 | DB109: 0.0635 | DC109: 0.0635 | DD109: 0.0635 | DE109: 0.0635 | DF109: 0.0635 | DG109: 0.0635 | DH109: 0.0635 | DI109: 0.0635 | DJ109: 0.0635 | DK109: 0.0635 | DL109: 0.0635 | DM109: 0.0635 | DN109: =CR109 -> 0 | DO109: 0.078873 | DP109: 0.078873 | DQ109: 0.078873 | DR109: 0.078873 | DS109: 0.078873 | DT109: 0.078873 | DU109: 0.078873 | DV109: 0.078873 | DW109: 0.078873 | DX109: 0.078873 | DY109: 0.078873 | DZ109: 0.078873 | EA109: 0.078873 | EB109: 0.078873 | EC109: 0.078873 | ED109: 0.078873 | EE109: 0.078873 | EF109: 0.078873 | EG109: 0.078873 | EH109: 0.078873 | EI109: 0.078873 | EJ109: 0.078873
BA110: АО " Авиашельф" | BB110: АО " Авиашельф" | BC110: АО " Авиашельф" | BD110: АО " Авиашельф" | BE110: АО " Авиашельф" | BF110: АО " Авиашельф" | BG110: АО " Авиашельф" | BH110: АО " Авиашельф" | BI110: АО " Авиашельф" | BJ110: АО " Авиашельф" | BK110: АО " Авиашельф" | BL110: АО " Авиашельф" | BM110: АО " Авиашельф" | BN110: АО " Авиашельф" | BO110: АО " Авиашельф" | BP110: АО " Авиашельф" | BQ110: АО " Авиашельф" | BR110: АО " Авиашельф" | BS110: АО " Авиашельф" | BT110: АО " Авиашельф" | BU110: АО " Авиашельф" | BV110: АО " Авиашельф" | BW110: АО " Авиашельф" | CR110: 0 | CS110: 0 | CT110: 0 | CU110: 0 | CV110: 0 | CW110: 0 | CX110: 0 | CY110: 0 | CZ110: 0 | DA110: 0 | DB110: 0 | DC110: 0 | DD110: 0 | DE110: 0 | DF110: 0 | DG110: 0 | DH110: 0 | DI110: 0 | DJ110: 0 | DK110: 0 | DL110: 0 | DM110: 0 | DN110: 0 | DO110: 0 | DP110: 0 | DQ110: 0 | DR110: 0 | DS110: 0 | DT110: 0 | DU110: 0 | DV110: 0 | DW110: 0 | DX110: 0 | DY110: 0 | DZ110: 0 | EA110: 0 | EB110: 0 | EC110: 0 | ED110: 0 | EE110: 0 | EF110: 0 | EG110: 0 | EH110: 0 | EI110: 0 | EJ110: 0
A111: Газопровод "Даги-Оха" | AA111: Сахалинская обл., Ногликский район | BA111: АО "Ногликская ГЭС" | BB111: АО "Ногликская ГЭС" | BC111: АО "Ногликская ГЭС" | BD111: АО "Ногликская ГЭС" | BE111: АО "Ногликская ГЭС" | BF111: АО "Ногликская ГЭС" | BG111: АО "Ногликская ГЭС" | BH111: АО "Ногликская ГЭС" | BI111: АО "Ногликская ГЭС" | BJ111: АО "Ногликская ГЭС" | BK111: АО "Ногликская ГЭС" | BL111: АО "Ногликская ГЭС" | BM111: АО "Ногликская ГЭС" | BN111: АО "Ногликская ГЭС" | BO111: АО "Ногликская ГЭС" | BP111: АО "Ногликская ГЭС" | BQ111: АО "Ногликская ГЭС" | BR111: АО "Ногликская ГЭС" | BS111: АО "Ногликская ГЭС" | BT111: АО "Ногликская ГЭС" | BU111: АО "Ногликская ГЭС" | BV111: АО "Ногликская ГЭС" | BW111: АО "Ногликская ГЭС" | BX111: 3 | CR111: 8.1 | CS111: 6.2 | CT111: 6.2 | CU111: 6.2 | CV111: 6.2 | CW111: 6.2 | CX111: 6.2 | CY111: 6.2 | CZ111: 6.2 | DA111: 6.2 | DB111: 6.2 | DC111: 6.2 | DD111: 6.2 | DE111: 6.2 | DF111: 6.2 | DG111: 6.2 | DH111: 6.2 | DI111: 6.2 | DJ111: 6.2 | DK111: 6.2 | DL111: 6.2 | DM111: 6.2 | DN111: =CR111 -> 8.1 | DO111: 0 | DP111: 0 | DQ111: 0 | DR111: 0 | DS111: 0 | DT111: 0 | DU111: 0 | DV111: 0 | DW111: 0 | DX111: 0 | DY111: 0 | DZ111: 0 | EA111: 0 | EB111: 0 | EC111: 0 | ED111: 0 | EE111: 0 | EF111: 0 | EG111: 0 | EH111: 0 | EI111: 0 | EJ111: 0 | EK111: =EL15 -> 3.044
B112: Итого | AB112: х | BB112: х | BY112: х | CR112: =CR105+CR106+CR107+CR108+CR109+CR111 -> 13.87988 | DN112: =DN105+DN106+DN107+DN108+DN109+DN111 -> 13.87988
EU114: Форма 7
A116: Информация о наличии (отсутствии) технической возможности доступа к регулируемым услугам по транспортировке газа по газораспределительным сетям (с детализацией
P117: по группам газопотребления) | BC117: ООО "ННК-САХАЛИНМОРНЕФТЕГАЗ" за | DK117: за август 20 | DR117: 24 | DV117: год
BC118: (наименование субъекта естественной монополии)
A120: Группа потребления | AV120: Объемы газа в соответствии с поступившими заявками, тыс. м3 | BY120: Объемы газа в соответствии с удовлетворенными заявками, тыс. м3
A121: 1 | AV121: 2 | BY121: 3
B122: Дифференцированный тариф всего, в том числе: | AV122: 0 | BY122: 0
B123: 1а группа | AV123: 0 | BY123: 0
B124: 1 группа | AV124: 0 | BY124: 0
...
